BEGIN:VCALENDAR
VERSION:2.0
PRODID:-//Third Wheel Brewing - ECPv6.15.20//NONSGML v1.0//EN
CALSCALE:GREGORIAN
METHOD:PUBLISH
X-ORIGINAL-URL:https://thirdwheelbrewing.com
X-WR-CALDESC:Events for Third Wheel Brewing
REFRESH-INTERVAL;VALUE=DURATION:PT1H
X-Robots-Tag:noindex
X-PUBLISHED-TTL:PT1H
BEGIN:VTIMEZONE
TZID:America/Chicago
BEGIN:DAYLIGHT
TZOFFSETFROM:-0600
TZOFFSETTO:-0500
TZNAME:CDT
DTSTART:20250309T080000
END:DAYLIGHT
BEGIN:STANDARD
TZOFFSETFROM:-0500
TZOFFSETTO:-0600
TZNAME:CST
DTSTART:20251102T070000
END:STANDARD
BEGIN:DAYLIGHT
TZOFFSETFROM:-0600
TZOFFSETTO:-0500
TZNAME:CDT
DTSTART:20260308T080000
END:DAYLIGHT
BEGIN:STANDARD
TZOFFSETFROM:-0500
TZOFFSETTO:-0600
TZNAME:CST
DTSTART:20261101T070000
END:STANDARD
BEGIN:DAYLIGHT
TZOFFSETFROM:-0600
TZOFFSETTO:-0500
TZNAME:CDT
DTSTART:20270314T080000
END:DAYLIGHT
BEGIN:STANDARD
TZOFFSETFROM:-0500
TZOFFSETTO:-0600
TZNAME:CST
DTSTART:20271107T070000
END:STANDARD
END:VTIMEZONE
BEGIN:VEVENT
DTSTART;TZID=America/Chicago:20260306T190000
DTEND;TZID=America/Chicago:20260306T210000
DTSTAMP:20260423T020435
CREATED:20260221T220627Z
LAST-MODIFIED:20260221T220628Z
UID:990001726-1772823600-1772830800@thirdwheelbrewing.com
SUMMARY:Music Trivia
DESCRIPTION:Think you know your Queen from your Kanye? Join us for Music Trivia at Third Wheel Brewing—a night of beats\, brews\, and brainpower! Rally your crew\, sip on something delicious\, and test your knowledge across decades\, genres\, and guilty pleasures. Bragging rights and plenty of beer await. \nGather your team of up to 8 people to crush the competition!
URL:https://thirdwheelbrewing.com/events/music-trivia/
LOCATION:Third Wheel Brewing\, 4008 N. Service Rd\, St. Peters\, MO\, 63376\, United States
CATEGORIES:Event,Music,Trivia
ATTACH;FMTTYPE=image/webp:https://thirdwheelbrewing.com/wp-content/uploads/2026/02/Music-Trivia.webp
END:VEVENT
BEGIN:VEVENT
DTSTART;TZID=America/Chicago:20260308T130000
DTEND;TZID=America/Chicago:20260308T160000
DTSTAMP:20260423T020435
CREATED:20260301T192606Z
LAST-MODIFIED:20260301T193251Z
UID:990001731-1772974800-1772985600@thirdwheelbrewing.com
SUMMARY:Sips & Spins - Women Artists
DESCRIPTION:Sips & Spins: Women Who Rock\nCelebrate the voices\, vision\, and vinyl that shaped generations. We’re spinning albums from iconic women artists in honor of International Women’s Day—pouring great beer\, turning up the volume on female‑led artistry\, and keeping the vibes warm\, bold\, and empowering. Grab a pint\, grab a friend\, and let the music move you. \nBring your favorite vinyl album from a woman artist and get $1 off your first beer. \nAnd if you’re here by 2pm you can enjoy something special from The Window’s brunch menu too!
URL:https://thirdwheelbrewing.com/events/sips-spins-women-artists/
LOCATION:Third Wheel Brewing\, 4008 N. Service Rd\, St. Peters\, MO\, 63376\, United States
CATEGORIES:Event,Music
ATTACH;FMTTYPE=image/jpeg:https://thirdwheelbrewing.com/wp-content/uploads/2025/11/Sips-Spins-graphic.jpg
END:VEVENT
BEGIN:VEVENT
DTSTART;TZID=America/Chicago:20260320T190000
DTEND;TZID=America/Chicago:20260320T210000
DTSTAMP:20260423T020435
CREATED:20260301T224324Z
LAST-MODIFIED:20260301T224325Z
UID:990001735-1774033200-1774040400@thirdwheelbrewing.com
SUMMARY:Spring Sing Beer Choir
DESCRIPTION:St. Charles Beer Choir’s Spring Sing brings together the two greatest communal joys on earth: raising a glass and raising your voice. Expect a laid‑back\, laughter‑filled evening where seasoned singers\, enthusiastic shower‑soloists\, and everyone in between can belt out pub songs\, classics\, and crowd‑pleasers with zero pressure and maximum fun. All who love beer\, singing\, or both are welcome to join the chorus and kick off Spring in true Beer Choir style.
URL:https://thirdwheelbrewing.com/events/spring-sing-beer-choir/
LOCATION:Third Wheel Brewing\, 4008 N. Service Rd\, St. Peters\, MO\, 63376\, United States
CATEGORIES:Event,Music
ATTACH;FMTTYPE=image/webp:https://thirdwheelbrewing.com/wp-content/uploads/2026/03/Beer-Choir.webp
END:VEVENT
END:VCALENDAR