BEGIN:VCALENDAR
VERSION:2.0
PRODID:-//Third Wheel Brewing - ECPv6.15.20//NONSGML v1.0//EN
CALSCALE:GREGORIAN
METHOD:PUBLISH
X-WR-CALNAME:Third Wheel Brewing
X-ORIGINAL-URL:https://thirdwheelbrewing.com
X-WR-CALDESC:Events for Third Wheel Brewing
REFRESH-INTERVAL;VALUE=DURATION:PT1H
X-Robots-Tag:noindex
X-PUBLISHED-TTL:PT1H
BEGIN:VTIMEZONE
TZID:America/Chicago
BEGIN:DAYLIGHT
TZOFFSETFROM:-0600
TZOFFSETTO:-0500
TZNAME:CDT
DTSTART:20250309T080000
END:DAYLIGHT
BEGIN:STANDARD
TZOFFSETFROM:-0500
TZOFFSETTO:-0600
TZNAME:CST
DTSTART:20251102T070000
END:STANDARD
BEGIN:DAYLIGHT
TZOFFSETFROM:-0600
TZOFFSETTO:-0500
TZNAME:CDT
DTSTART:20260308T080000
END:DAYLIGHT
BEGIN:STANDARD
TZOFFSETFROM:-0500
TZOFFSETTO:-0600
TZNAME:CST
DTSTART:20261101T070000
END:STANDARD
BEGIN:DAYLIGHT
TZOFFSETFROM:-0600
TZOFFSETTO:-0500
TZNAME:CDT
DTSTART:20270314T080000
END:DAYLIGHT
BEGIN:STANDARD
TZOFFSETFROM:-0500
TZOFFSETTO:-0600
TZNAME:CST
DTSTART:20271107T070000
END:STANDARD
END:VTIMEZONE
BEGIN:VEVENT
DTSTART;TZID=America/Chicago:20260201T110000
DTEND;TZID=America/Chicago:20260201T230000
DTSTAMP:20260422T221738
CREATED:20260131T035408Z
LAST-MODIFIED:20260206T020609Z
UID:990001697-1769943600-1769986800@thirdwheelbrewing.com
SUMMARY:Pushing Back the Darkness Beer Release
DESCRIPTION:Don’t miss the special release of our smooth black ale\, Pushing Back the Darkness.  Layers of roasted malt bring notes of dark chocolate\, toasted bread\, and a hint of smoke\, and orange peel adds a unique contrasting note. Rich\, comforting\, and quietly powerful – this is the beer you reach for when you’re ready to push back the darkness one sip at a time.
URL:https://thirdwheelbrewing.com/events/pushing-back-the-darkness-beer-release/
LOCATION:Third Wheel Brewing\, 4008 N. Service Rd\, St. Peters\, MO\, 63376\, United States
CATEGORIES:Beer Release
ATTACH;FMTTYPE=image/jpeg:https://thirdwheelbrewing.com/wp-content/uploads/2024/08/Pushing-Back-the-Darkness.jpg
END:VEVENT
END:VCALENDAR