BEGIN:VCALENDAR
VERSION:2.0
PRODID:-//Third Wheel Brewing - ECPv6.15.20//NONSGML v1.0//EN
CALSCALE:GREGORIAN
METHOD:PUBLISH
X-WR-CALNAME:Third Wheel Brewing
X-ORIGINAL-URL:https://thirdwheelbrewing.com
X-WR-CALDESC:Events for Third Wheel Brewing
REFRESH-INTERVAL;VALUE=DURATION:PT1H
X-Robots-Tag:noindex
X-PUBLISHED-TTL:PT1H
BEGIN:VTIMEZONE
TZID:America/Chicago
BEGIN:DAYLIGHT
TZOFFSETFROM:-0600
TZOFFSETTO:-0500
TZNAME:CDT
DTSTART:20270314T080000
END:DAYLIGHT
BEGIN:STANDARD
TZOFFSETFROM:-0500
TZOFFSETTO:-0600
TZNAME:CST
DTSTART:20271107T070000
END:STANDARD
BEGIN:DAYLIGHT
TZOFFSETFROM:-0600
TZOFFSETTO:-0500
TZNAME:CDT
DTSTART:20280312T080000
END:DAYLIGHT
BEGIN:STANDARD
TZOFFSETFROM:-0500
TZOFFSETTO:-0600
TZNAME:CST
DTSTART:20281105T070000
END:STANDARD
BEGIN:DAYLIGHT
TZOFFSETFROM:-0600
TZOFFSETTO:-0500
TZNAME:CDT
DTSTART:20290311T080000
END:DAYLIGHT
BEGIN:STANDARD
TZOFFSETFROM:-0500
TZOFFSETTO:-0600
TZNAME:CST
DTSTART:20291104T070000
END:STANDARD
END:VTIMEZONE
BEGIN:VEVENT
DTSTART;TZID=America/Chicago:20280331T150000
DTEND;TZID=America/Chicago:20280331T190000
DTSTAMP:20260424T102042
CREATED:20250608T213953Z
LAST-MODIFIED:20250610T145059Z
UID:990001287-1838127600-1838142000@thirdwheelbrewing.com
SUMMARY:Happy Hour every Friday
DESCRIPTION:Enjoy $2 off all of our core beers from 3-7 every Friday
URL:https://thirdwheelbrewing.com/events/happy-hour-every-friday/2028-03-31/
LOCATION:Third Wheel Brewing\, 4008 N. Service Rd\, St. Peters\, MO\, 63376\, United States
ATTACH;FMTTYPE=image/jpeg:https://thirdwheelbrewing.com/wp-content/uploads/2023/12/Third-Wheel-Brewing-.jpg
END:VEVENT
BEGIN:VEVENT
DTSTART;TZID=America/Chicago:20280406T190000
DTEND;TZID=America/Chicago:20280406T210000
DTSTAMP:20260424T102042
CREATED:20251114T023443Z
LAST-MODIFIED:20251114T023444Z
UID:990001026-1838660400-1838667600@thirdwheelbrewing.com
SUMMARY:Beer Bingo Thursday
DESCRIPTION:Beer bingo is fun and free to play with a food or beverage purchase!  The game starts at 7pm every Thursday.
URL:https://thirdwheelbrewing.com/events/beer-bingo-tonight-2/2028-04-06/
LOCATION:Third Wheel Brewing\, 4008 N. Service Rd\, St. Peters\, MO\, 63376\, United States
CATEGORIES:Bingo
ATTACH;FMTTYPE=image/jpeg:https://thirdwheelbrewing.com/wp-content/uploads/2024/01/23-10-26-third-wheel-48073.jpg
END:VEVENT
BEGIN:VEVENT
DTSTART;TZID=America/Chicago:20280407T150000
DTEND;TZID=America/Chicago:20280407T190000
DTSTAMP:20260424T102042
CREATED:20250608T213953Z
LAST-MODIFIED:20250610T145059Z
UID:990001288-1838732400-1838746800@thirdwheelbrewing.com
SUMMARY:Happy Hour every Friday
DESCRIPTION:Enjoy $2 off all of our core beers from 3-7 every Friday
URL:https://thirdwheelbrewing.com/events/happy-hour-every-friday/2028-04-07/
LOCATION:Third Wheel Brewing\, 4008 N. Service Rd\, St. Peters\, MO\, 63376\, United States
ATTACH;FMTTYPE=image/jpeg:https://thirdwheelbrewing.com/wp-content/uploads/2023/12/Third-Wheel-Brewing-.jpg
END:VEVENT
BEGIN:VEVENT
DTSTART;TZID=America/Chicago:20280413T190000
DTEND;TZID=America/Chicago:20280413T210000
DTSTAMP:20260424T102042
CREATED:20251114T023443Z
LAST-MODIFIED:20251114T023444Z
UID:990001027-1839265200-1839272400@thirdwheelbrewing.com
SUMMARY:Beer Bingo Thursday
DESCRIPTION:Beer bingo is fun and free to play with a food or beverage purchase!  The game starts at 7pm every Thursday.
URL:https://thirdwheelbrewing.com/events/beer-bingo-tonight-2/2028-04-13/
LOCATION:Third Wheel Brewing\, 4008 N. Service Rd\, St. Peters\, MO\, 63376\, United States
CATEGORIES:Bingo
ATTACH;FMTTYPE=image/jpeg:https://thirdwheelbrewing.com/wp-content/uploads/2024/01/23-10-26-third-wheel-48073.jpg
END:VEVENT
BEGIN:VEVENT
DTSTART;TZID=America/Chicago:20280414T150000
DTEND;TZID=America/Chicago:20280414T190000
DTSTAMP:20260424T102042
CREATED:20250608T213953Z
LAST-MODIFIED:20250610T145059Z
UID:990001289-1839337200-1839351600@thirdwheelbrewing.com
SUMMARY:Happy Hour every Friday
DESCRIPTION:Enjoy $2 off all of our core beers from 3-7 every Friday
URL:https://thirdwheelbrewing.com/events/happy-hour-every-friday/2028-04-14/
LOCATION:Third Wheel Brewing\, 4008 N. Service Rd\, St. Peters\, MO\, 63376\, United States
ATTACH;FMTTYPE=image/jpeg:https://thirdwheelbrewing.com/wp-content/uploads/2023/12/Third-Wheel-Brewing-.jpg
END:VEVENT
BEGIN:VEVENT
DTSTART;TZID=America/Chicago:20280418T190000
DTEND;TZID=America/Chicago:20280418T210000
DTSTAMP:20260424T102042
CREATED:20240306T211847Z
LAST-MODIFIED:20260221T211351Z
UID:990000637-1839697200-1839704400@thirdwheelbrewing.com
SUMMARY:Garage Brewer’s Society
DESCRIPTION:🏠🍻 Calling all homebrew enthusiasts! 🌟 Join us for Garage Brewer’s Society from 7-9 pm and connect with fellow homebrewers! Don’t miss out on this opportunity to share your passion for brewing! #Homebrewing #GarageBrewersSociety
URL:https://thirdwheelbrewing.com/events/garage-brewers-society/2028-04-18/
LOCATION:Third Wheel Brewing\, 4008 N. Service Rd\, St. Peters\, MO\, 63376\, United States
CATEGORIES:Event
ATTACH;FMTTYPE=image/jpeg:https://thirdwheelbrewing.com/wp-content/uploads/2024/03/Garagebrewers.jpg
END:VEVENT
BEGIN:VEVENT
DTSTART;TZID=America/Chicago:20280420T190000
DTEND;TZID=America/Chicago:20280420T210000
DTSTAMP:20260424T102042
CREATED:20251114T023443Z
LAST-MODIFIED:20251114T023444Z
UID:990001028-1839870000-1839877200@thirdwheelbrewing.com
SUMMARY:Beer Bingo Thursday
DESCRIPTION:Beer bingo is fun and free to play with a food or beverage purchase!  The game starts at 7pm every Thursday.
URL:https://thirdwheelbrewing.com/events/beer-bingo-tonight-2/2028-04-20/
LOCATION:Third Wheel Brewing\, 4008 N. Service Rd\, St. Peters\, MO\, 63376\, United States
CATEGORIES:Bingo
ATTACH;FMTTYPE=image/jpeg:https://thirdwheelbrewing.com/wp-content/uploads/2024/01/23-10-26-third-wheel-48073.jpg
END:VEVENT
BEGIN:VEVENT
DTSTART;TZID=America/Chicago:20280421T150000
DTEND;TZID=America/Chicago:20280421T190000
DTSTAMP:20260424T102042
CREATED:20250608T213953Z
LAST-MODIFIED:20250610T145059Z
UID:990001290-1839942000-1839956400@thirdwheelbrewing.com
SUMMARY:Happy Hour every Friday
DESCRIPTION:Enjoy $2 off all of our core beers from 3-7 every Friday
URL:https://thirdwheelbrewing.com/events/happy-hour-every-friday/2028-04-21/
LOCATION:Third Wheel Brewing\, 4008 N. Service Rd\, St. Peters\, MO\, 63376\, United States
ATTACH;FMTTYPE=image/jpeg:https://thirdwheelbrewing.com/wp-content/uploads/2023/12/Third-Wheel-Brewing-.jpg
END:VEVENT
BEGIN:VEVENT
DTSTART;TZID=America/Chicago:20280427T190000
DTEND;TZID=America/Chicago:20280427T210000
DTSTAMP:20260424T102042
CREATED:20251114T023443Z
LAST-MODIFIED:20251114T023444Z
UID:990001029-1840474800-1840482000@thirdwheelbrewing.com
SUMMARY:Beer Bingo Thursday
DESCRIPTION:Beer bingo is fun and free to play with a food or beverage purchase!  The game starts at 7pm every Thursday.
URL:https://thirdwheelbrewing.com/events/beer-bingo-tonight-2/2028-04-27/
LOCATION:Third Wheel Brewing\, 4008 N. Service Rd\, St. Peters\, MO\, 63376\, United States
CATEGORIES:Bingo
ATTACH;FMTTYPE=image/jpeg:https://thirdwheelbrewing.com/wp-content/uploads/2024/01/23-10-26-third-wheel-48073.jpg
END:VEVENT
BEGIN:VEVENT
DTSTART;TZID=America/Chicago:20280428T150000
DTEND;TZID=America/Chicago:20280428T190000
DTSTAMP:20260424T102042
CREATED:20250608T213953Z
LAST-MODIFIED:20250610T145059Z
UID:990001291-1840546800-1840561200@thirdwheelbrewing.com
SUMMARY:Happy Hour every Friday
DESCRIPTION:Enjoy $2 off all of our core beers from 3-7 every Friday
URL:https://thirdwheelbrewing.com/events/happy-hour-every-friday/2028-04-28/
LOCATION:Third Wheel Brewing\, 4008 N. Service Rd\, St. Peters\, MO\, 63376\, United States
ATTACH;FMTTYPE=image/jpeg:https://thirdwheelbrewing.com/wp-content/uploads/2023/12/Third-Wheel-Brewing-.jpg
END:VEVENT
BEGIN:VEVENT
DTSTART;TZID=America/Chicago:20280504T190000
DTEND;TZID=America/Chicago:20280504T210000
DTSTAMP:20260424T102042
CREATED:20251114T023443Z
LAST-MODIFIED:20251114T023444Z
UID:990001030-1841079600-1841086800@thirdwheelbrewing.com
SUMMARY:Beer Bingo Thursday
DESCRIPTION:Beer bingo is fun and free to play with a food or beverage purchase!  The game starts at 7pm every Thursday.
URL:https://thirdwheelbrewing.com/events/beer-bingo-tonight-2/2028-05-04/
LOCATION:Third Wheel Brewing\, 4008 N. Service Rd\, St. Peters\, MO\, 63376\, United States
CATEGORIES:Bingo
ATTACH;FMTTYPE=image/jpeg:https://thirdwheelbrewing.com/wp-content/uploads/2024/01/23-10-26-third-wheel-48073.jpg
END:VEVENT
BEGIN:VEVENT
DTSTART;TZID=America/Chicago:20280505T150000
DTEND;TZID=America/Chicago:20280505T190000
DTSTAMP:20260424T102042
CREATED:20250608T213953Z
LAST-MODIFIED:20250610T145059Z
UID:990001292-1841151600-1841166000@thirdwheelbrewing.com
SUMMARY:Happy Hour every Friday
DESCRIPTION:Enjoy $2 off all of our core beers from 3-7 every Friday
URL:https://thirdwheelbrewing.com/events/happy-hour-every-friday/2028-05-05/
LOCATION:Third Wheel Brewing\, 4008 N. Service Rd\, St. Peters\, MO\, 63376\, United States
ATTACH;FMTTYPE=image/jpeg:https://thirdwheelbrewing.com/wp-content/uploads/2023/12/Third-Wheel-Brewing-.jpg
END:VEVENT
BEGIN:VEVENT
DTSTART;TZID=America/Chicago:20280511T190000
DTEND;TZID=America/Chicago:20280511T210000
DTSTAMP:20260424T102042
CREATED:20251114T023443Z
LAST-MODIFIED:20251114T023444Z
UID:990001031-1841684400-1841691600@thirdwheelbrewing.com
SUMMARY:Beer Bingo Thursday
DESCRIPTION:Beer bingo is fun and free to play with a food or beverage purchase!  The game starts at 7pm every Thursday.
URL:https://thirdwheelbrewing.com/events/beer-bingo-tonight-2/2028-05-11/
LOCATION:Third Wheel Brewing\, 4008 N. Service Rd\, St. Peters\, MO\, 63376\, United States
CATEGORIES:Bingo
ATTACH;FMTTYPE=image/jpeg:https://thirdwheelbrewing.com/wp-content/uploads/2024/01/23-10-26-third-wheel-48073.jpg
END:VEVENT
BEGIN:VEVENT
DTSTART;TZID=America/Chicago:20280512T150000
DTEND;TZID=America/Chicago:20280512T190000
DTSTAMP:20260424T102042
CREATED:20250608T213953Z
LAST-MODIFIED:20250610T145059Z
UID:990001293-1841756400-1841770800@thirdwheelbrewing.com
SUMMARY:Happy Hour every Friday
DESCRIPTION:Enjoy $2 off all of our core beers from 3-7 every Friday
URL:https://thirdwheelbrewing.com/events/happy-hour-every-friday/2028-05-12/
LOCATION:Third Wheel Brewing\, 4008 N. Service Rd\, St. Peters\, MO\, 63376\, United States
ATTACH;FMTTYPE=image/jpeg:https://thirdwheelbrewing.com/wp-content/uploads/2023/12/Third-Wheel-Brewing-.jpg
END:VEVENT
BEGIN:VEVENT
DTSTART;TZID=America/Chicago:20280516T190000
DTEND;TZID=America/Chicago:20280516T210000
DTSTAMP:20260424T102042
CREATED:20240306T211847Z
LAST-MODIFIED:20260221T211351Z
UID:990000638-1842116400-1842123600@thirdwheelbrewing.com
SUMMARY:Garage Brewer’s Society
DESCRIPTION:🏠🍻 Calling all homebrew enthusiasts! 🌟 Join us for Garage Brewer’s Society from 7-9 pm and connect with fellow homebrewers! Don’t miss out on this opportunity to share your passion for brewing! #Homebrewing #GarageBrewersSociety
URL:https://thirdwheelbrewing.com/events/garage-brewers-society/2028-05-16/
LOCATION:Third Wheel Brewing\, 4008 N. Service Rd\, St. Peters\, MO\, 63376\, United States
CATEGORIES:Event
ATTACH;FMTTYPE=image/jpeg:https://thirdwheelbrewing.com/wp-content/uploads/2024/03/Garagebrewers.jpg
END:VEVENT
BEGIN:VEVENT
DTSTART;TZID=America/Chicago:20280518T190000
DTEND;TZID=America/Chicago:20280518T210000
DTSTAMP:20260424T102042
CREATED:20251114T023443Z
LAST-MODIFIED:20251114T023444Z
UID:990001032-1842289200-1842296400@thirdwheelbrewing.com
SUMMARY:Beer Bingo Thursday
DESCRIPTION:Beer bingo is fun and free to play with a food or beverage purchase!  The game starts at 7pm every Thursday.
URL:https://thirdwheelbrewing.com/events/beer-bingo-tonight-2/2028-05-18/
LOCATION:Third Wheel Brewing\, 4008 N. Service Rd\, St. Peters\, MO\, 63376\, United States
CATEGORIES:Bingo
ATTACH;FMTTYPE=image/jpeg:https://thirdwheelbrewing.com/wp-content/uploads/2024/01/23-10-26-third-wheel-48073.jpg
END:VEVENT
BEGIN:VEVENT
DTSTART;TZID=America/Chicago:20280519T150000
DTEND;TZID=America/Chicago:20280519T190000
DTSTAMP:20260424T102042
CREATED:20250608T213953Z
LAST-MODIFIED:20250610T145059Z
UID:990001294-1842361200-1842375600@thirdwheelbrewing.com
SUMMARY:Happy Hour every Friday
DESCRIPTION:Enjoy $2 off all of our core beers from 3-7 every Friday
URL:https://thirdwheelbrewing.com/events/happy-hour-every-friday/2028-05-19/
LOCATION:Third Wheel Brewing\, 4008 N. Service Rd\, St. Peters\, MO\, 63376\, United States
ATTACH;FMTTYPE=image/jpeg:https://thirdwheelbrewing.com/wp-content/uploads/2023/12/Third-Wheel-Brewing-.jpg
END:VEVENT
BEGIN:VEVENT
DTSTART;TZID=America/Chicago:20280525T190000
DTEND;TZID=America/Chicago:20280525T210000
DTSTAMP:20260424T102042
CREATED:20251114T023443Z
LAST-MODIFIED:20251114T023444Z
UID:990001033-1842894000-1842901200@thirdwheelbrewing.com
SUMMARY:Beer Bingo Thursday
DESCRIPTION:Beer bingo is fun and free to play with a food or beverage purchase!  The game starts at 7pm every Thursday.
URL:https://thirdwheelbrewing.com/events/beer-bingo-tonight-2/2028-05-25/
LOCATION:Third Wheel Brewing\, 4008 N. Service Rd\, St. Peters\, MO\, 63376\, United States
CATEGORIES:Bingo
ATTACH;FMTTYPE=image/jpeg:https://thirdwheelbrewing.com/wp-content/uploads/2024/01/23-10-26-third-wheel-48073.jpg
END:VEVENT
BEGIN:VEVENT
DTSTART;TZID=America/Chicago:20280526T150000
DTEND;TZID=America/Chicago:20280526T190000
DTSTAMP:20260424T102042
CREATED:20250608T213953Z
LAST-MODIFIED:20250610T145059Z
UID:990001295-1842966000-1842980400@thirdwheelbrewing.com
SUMMARY:Happy Hour every Friday
DESCRIPTION:Enjoy $2 off all of our core beers from 3-7 every Friday
URL:https://thirdwheelbrewing.com/events/happy-hour-every-friday/2028-05-26/
LOCATION:Third Wheel Brewing\, 4008 N. Service Rd\, St. Peters\, MO\, 63376\, United States
ATTACH;FMTTYPE=image/jpeg:https://thirdwheelbrewing.com/wp-content/uploads/2023/12/Third-Wheel-Brewing-.jpg
END:VEVENT
BEGIN:VEVENT
DTSTART;TZID=America/Chicago:20280601T190000
DTEND;TZID=America/Chicago:20280601T210000
DTSTAMP:20260424T102042
CREATED:20251114T023443Z
LAST-MODIFIED:20251114T023444Z
UID:990001034-1843498800-1843506000@thirdwheelbrewing.com
SUMMARY:Beer Bingo Thursday
DESCRIPTION:Beer bingo is fun and free to play with a food or beverage purchase!  The game starts at 7pm every Thursday.
URL:https://thirdwheelbrewing.com/events/beer-bingo-tonight-2/2028-06-01/
LOCATION:Third Wheel Brewing\, 4008 N. Service Rd\, St. Peters\, MO\, 63376\, United States
CATEGORIES:Bingo
ATTACH;FMTTYPE=image/jpeg:https://thirdwheelbrewing.com/wp-content/uploads/2024/01/23-10-26-third-wheel-48073.jpg
END:VEVENT
BEGIN:VEVENT
DTSTART;TZID=America/Chicago:20280602T150000
DTEND;TZID=America/Chicago:20280602T190000
DTSTAMP:20260424T102042
CREATED:20250608T213953Z
LAST-MODIFIED:20250610T145059Z
UID:990001296-1843570800-1843585200@thirdwheelbrewing.com
SUMMARY:Happy Hour every Friday
DESCRIPTION:Enjoy $2 off all of our core beers from 3-7 every Friday
URL:https://thirdwheelbrewing.com/events/happy-hour-every-friday/2028-06-02/
LOCATION:Third Wheel Brewing\, 4008 N. Service Rd\, St. Peters\, MO\, 63376\, United States
ATTACH;FMTTYPE=image/jpeg:https://thirdwheelbrewing.com/wp-content/uploads/2023/12/Third-Wheel-Brewing-.jpg
END:VEVENT
BEGIN:VEVENT
DTSTART;TZID=America/Chicago:20280608T190000
DTEND;TZID=America/Chicago:20280608T210000
DTSTAMP:20260424T102042
CREATED:20251114T023443Z
LAST-MODIFIED:20251114T023444Z
UID:990001035-1844103600-1844110800@thirdwheelbrewing.com
SUMMARY:Beer Bingo Thursday
DESCRIPTION:Beer bingo is fun and free to play with a food or beverage purchase!  The game starts at 7pm every Thursday.
URL:https://thirdwheelbrewing.com/events/beer-bingo-tonight-2/2028-06-08/
LOCATION:Third Wheel Brewing\, 4008 N. Service Rd\, St. Peters\, MO\, 63376\, United States
CATEGORIES:Bingo
ATTACH;FMTTYPE=image/jpeg:https://thirdwheelbrewing.com/wp-content/uploads/2024/01/23-10-26-third-wheel-48073.jpg
END:VEVENT
BEGIN:VEVENT
DTSTART;TZID=America/Chicago:20280609T150000
DTEND;TZID=America/Chicago:20280609T190000
DTSTAMP:20260424T102042
CREATED:20250608T213953Z
LAST-MODIFIED:20250610T145059Z
UID:990001297-1844175600-1844190000@thirdwheelbrewing.com
SUMMARY:Happy Hour every Friday
DESCRIPTION:Enjoy $2 off all of our core beers from 3-7 every Friday
URL:https://thirdwheelbrewing.com/events/happy-hour-every-friday/2028-06-09/
LOCATION:Third Wheel Brewing\, 4008 N. Service Rd\, St. Peters\, MO\, 63376\, United States
ATTACH;FMTTYPE=image/jpeg:https://thirdwheelbrewing.com/wp-content/uploads/2023/12/Third-Wheel-Brewing-.jpg
END:VEVENT
BEGIN:VEVENT
DTSTART;TZID=America/Chicago:20280615T190000
DTEND;TZID=America/Chicago:20280615T210000
DTSTAMP:20260424T102042
CREATED:20251114T023443Z
LAST-MODIFIED:20251114T023444Z
UID:990001036-1844708400-1844715600@thirdwheelbrewing.com
SUMMARY:Beer Bingo Thursday
DESCRIPTION:Beer bingo is fun and free to play with a food or beverage purchase!  The game starts at 7pm every Thursday.
URL:https://thirdwheelbrewing.com/events/beer-bingo-tonight-2/2028-06-15/
LOCATION:Third Wheel Brewing\, 4008 N. Service Rd\, St. Peters\, MO\, 63376\, United States
CATEGORIES:Bingo
ATTACH;FMTTYPE=image/jpeg:https://thirdwheelbrewing.com/wp-content/uploads/2024/01/23-10-26-third-wheel-48073.jpg
END:VEVENT
BEGIN:VEVENT
DTSTART;TZID=America/Chicago:20280616T150000
DTEND;TZID=America/Chicago:20280616T190000
DTSTAMP:20260424T102042
CREATED:20250608T213953Z
LAST-MODIFIED:20250610T145059Z
UID:990001298-1844780400-1844794800@thirdwheelbrewing.com
SUMMARY:Happy Hour every Friday
DESCRIPTION:Enjoy $2 off all of our core beers from 3-7 every Friday
URL:https://thirdwheelbrewing.com/events/happy-hour-every-friday/2028-06-16/
LOCATION:Third Wheel Brewing\, 4008 N. Service Rd\, St. Peters\, MO\, 63376\, United States
ATTACH;FMTTYPE=image/jpeg:https://thirdwheelbrewing.com/wp-content/uploads/2023/12/Third-Wheel-Brewing-.jpg
END:VEVENT
BEGIN:VEVENT
DTSTART;TZID=America/Chicago:20280620T190000
DTEND;TZID=America/Chicago:20280620T210000
DTSTAMP:20260424T102042
CREATED:20240306T211847Z
LAST-MODIFIED:20260221T211351Z
UID:990000639-1845140400-1845147600@thirdwheelbrewing.com
SUMMARY:Garage Brewer’s Society
DESCRIPTION:🏠🍻 Calling all homebrew enthusiasts! 🌟 Join us for Garage Brewer’s Society from 7-9 pm and connect with fellow homebrewers! Don’t miss out on this opportunity to share your passion for brewing! #Homebrewing #GarageBrewersSociety
URL:https://thirdwheelbrewing.com/events/garage-brewers-society/2028-06-20/
LOCATION:Third Wheel Brewing\, 4008 N. Service Rd\, St. Peters\, MO\, 63376\, United States
CATEGORIES:Event
ATTACH;FMTTYPE=image/jpeg:https://thirdwheelbrewing.com/wp-content/uploads/2024/03/Garagebrewers.jpg
END:VEVENT
BEGIN:VEVENT
DTSTART;TZID=America/Chicago:20280622T190000
DTEND;TZID=America/Chicago:20280622T210000
DTSTAMP:20260424T102042
CREATED:20251114T023443Z
LAST-MODIFIED:20251114T023444Z
UID:990001037-1845313200-1845320400@thirdwheelbrewing.com
SUMMARY:Beer Bingo Thursday
DESCRIPTION:Beer bingo is fun and free to play with a food or beverage purchase!  The game starts at 7pm every Thursday.
URL:https://thirdwheelbrewing.com/events/beer-bingo-tonight-2/2028-06-22/
LOCATION:Third Wheel Brewing\, 4008 N. Service Rd\, St. Peters\, MO\, 63376\, United States
CATEGORIES:Bingo
ATTACH;FMTTYPE=image/jpeg:https://thirdwheelbrewing.com/wp-content/uploads/2024/01/23-10-26-third-wheel-48073.jpg
END:VEVENT
BEGIN:VEVENT
DTSTART;TZID=America/Chicago:20280623T150000
DTEND;TZID=America/Chicago:20280623T190000
DTSTAMP:20260424T102042
CREATED:20250608T213953Z
LAST-MODIFIED:20250610T145059Z
UID:990001299-1845385200-1845399600@thirdwheelbrewing.com
SUMMARY:Happy Hour every Friday
DESCRIPTION:Enjoy $2 off all of our core beers from 3-7 every Friday
URL:https://thirdwheelbrewing.com/events/happy-hour-every-friday/2028-06-23/
LOCATION:Third Wheel Brewing\, 4008 N. Service Rd\, St. Peters\, MO\, 63376\, United States
ATTACH;FMTTYPE=image/jpeg:https://thirdwheelbrewing.com/wp-content/uploads/2023/12/Third-Wheel-Brewing-.jpg
END:VEVENT
BEGIN:VEVENT
DTSTART;TZID=America/Chicago:20280629T190000
DTEND;TZID=America/Chicago:20280629T210000
DTSTAMP:20260424T102042
CREATED:20251114T023443Z
LAST-MODIFIED:20251114T023444Z
UID:990001038-1845918000-1845925200@thirdwheelbrewing.com
SUMMARY:Beer Bingo Thursday
DESCRIPTION:Beer bingo is fun and free to play with a food or beverage purchase!  The game starts at 7pm every Thursday.
URL:https://thirdwheelbrewing.com/events/beer-bingo-tonight-2/2028-06-29/
LOCATION:Third Wheel Brewing\, 4008 N. Service Rd\, St. Peters\, MO\, 63376\, United States
CATEGORIES:Bingo
ATTACH;FMTTYPE=image/jpeg:https://thirdwheelbrewing.com/wp-content/uploads/2024/01/23-10-26-third-wheel-48073.jpg
END:VEVENT
BEGIN:VEVENT
DTSTART;TZID=America/Chicago:20280630T150000
DTEND;TZID=America/Chicago:20280630T190000
DTSTAMP:20260424T102042
CREATED:20250608T213953Z
LAST-MODIFIED:20250610T145059Z
UID:990001300-1845990000-1846004400@thirdwheelbrewing.com
SUMMARY:Happy Hour every Friday
DESCRIPTION:Enjoy $2 off all of our core beers from 3-7 every Friday
URL:https://thirdwheelbrewing.com/events/happy-hour-every-friday/2028-06-30/
LOCATION:Third Wheel Brewing\, 4008 N. Service Rd\, St. Peters\, MO\, 63376\, United States
ATTACH;FMTTYPE=image/jpeg:https://thirdwheelbrewing.com/wp-content/uploads/2023/12/Third-Wheel-Brewing-.jpg
END:VEVENT
END:VCALENDAR