BEGIN:VCALENDAR
VERSION:2.0
PRODID:-//Third Wheel Brewing - ECPv6.15.20//NONSGML v1.0//EN
CALSCALE:GREGORIAN
METHOD:PUBLISH
X-WR-CALNAME:Third Wheel Brewing
X-ORIGINAL-URL:https://thirdwheelbrewing.com
X-WR-CALDESC:Events for Third Wheel Brewing
REFRESH-INTERVAL;VALUE=DURATION:PT1H
X-Robots-Tag:noindex
X-PUBLISHED-TTL:PT1H
BEGIN:VTIMEZONE
TZID:America/Chicago
BEGIN:DAYLIGHT
TZOFFSETFROM:-0600
TZOFFSETTO:-0500
TZNAME:CDT
DTSTART:20250309T080000
END:DAYLIGHT
BEGIN:STANDARD
TZOFFSETFROM:-0500
TZOFFSETTO:-0600
TZNAME:CST
DTSTART:20251102T070000
END:STANDARD
BEGIN:DAYLIGHT
TZOFFSETFROM:-0600
TZOFFSETTO:-0500
TZNAME:CDT
DTSTART:20260308T080000
END:DAYLIGHT
BEGIN:STANDARD
TZOFFSETFROM:-0500
TZOFFSETTO:-0600
TZNAME:CST
DTSTART:20261101T070000
END:STANDARD
BEGIN:DAYLIGHT
TZOFFSETFROM:-0600
TZOFFSETTO:-0500
TZNAME:CDT
DTSTART:20270314T080000
END:DAYLIGHT
BEGIN:STANDARD
TZOFFSETFROM:-0500
TZOFFSETTO:-0600
TZNAME:CST
DTSTART:20271107T070000
END:STANDARD
END:VTIMEZONE
BEGIN:VEVENT
DTSTART;TZID=America/Chicago:20260906T130000
DTEND;TZID=America/Chicago:20260906T170000
DTSTAMP:20260423T055858
CREATED:20260328T023318Z
LAST-MODIFIED:20260329T002254Z
UID:990001751-1788699600-1788714000@thirdwheelbrewing.com
SUMMARY:Puzzles & Guzzles
DESCRIPTION:Puzzle Lovers and Beer Enthusiasts Unite! Looking for great fun\, friends\, and a challenge? Join us for Puzzles & Guzzles – where your brain gets a workout and your taste buds are in for a treat! What to expect: Gather your team of 2-6 people Register at the bar the day of the event.  $10 per person\, includes a flight of Third Wheel Beer for each adult.  Complete a 300-piece jigsaw puzzle and your beer flights in the fastest time! Tons of laughter\, great company\, and a little healthy competition! Start any time between 1pm – 5pm.
URL:https://thirdwheelbrewing.com/events/puzzles-guzzles-2-2-2/2026-09-06/
LOCATION:Third Wheel Brewing\, 4008 N. Service Rd\, St. Peters\, MO\, 63376\, United States
CATEGORIES:Event
ATTACH;FMTTYPE=image/webp:https://thirdwheelbrewing.com/wp-content/uploads/2025/11/Puzzles-no-dates.webp
END:VEVENT
BEGIN:VEVENT
DTSTART;TZID=America/Chicago:20260910T190000
DTEND;TZID=America/Chicago:20260910T210000
DTSTAMP:20260423T055858
CREATED:20251114T023443Z
LAST-MODIFIED:20251114T023444Z
UID:990000944-1789066800-1789074000@thirdwheelbrewing.com
SUMMARY:Beer Bingo Thursday
DESCRIPTION:Beer bingo is fun and free to play with a food or beverage purchase!  The game starts at 7pm every Thursday.
URL:https://thirdwheelbrewing.com/events/beer-bingo-tonight-2/2026-09-10/
LOCATION:Third Wheel Brewing\, 4008 N. Service Rd\, St. Peters\, MO\, 63376\, United States
CATEGORIES:Bingo
ATTACH;FMTTYPE=image/jpeg:https://thirdwheelbrewing.com/wp-content/uploads/2024/01/23-10-26-third-wheel-48073.jpg
END:VEVENT
BEGIN:VEVENT
DTSTART;TZID=America/Chicago:20260911T150000
DTEND;TZID=America/Chicago:20260911T190000
DTSTAMP:20260423T055858
CREATED:20250608T213953Z
LAST-MODIFIED:20250610T145059Z
UID:990001206-1789138800-1789153200@thirdwheelbrewing.com
SUMMARY:Happy Hour every Friday
DESCRIPTION:Enjoy $2 off all of our core beers from 3-7 every Friday
URL:https://thirdwheelbrewing.com/events/happy-hour-every-friday/2026-09-11/
LOCATION:Third Wheel Brewing\, 4008 N. Service Rd\, St. Peters\, MO\, 63376\, United States
ATTACH;FMTTYPE=image/jpeg:https://thirdwheelbrewing.com/wp-content/uploads/2023/12/Third-Wheel-Brewing-.jpg
END:VEVENT
BEGIN:VEVENT
DTSTART;TZID=America/Chicago:20260915T190000
DTEND;TZID=America/Chicago:20260915T210000
DTSTAMP:20260423T055858
CREATED:20240306T211847Z
LAST-MODIFIED:20260221T211351Z
UID:990000618-1789498800-1789506000@thirdwheelbrewing.com
SUMMARY:Garage Brewer’s Society
DESCRIPTION:🏠🍻 Calling all homebrew enthusiasts! 🌟 Join us for Garage Brewer’s Society from 7-9 pm and connect with fellow homebrewers! Don’t miss out on this opportunity to share your passion for brewing! #Homebrewing #GarageBrewersSociety
URL:https://thirdwheelbrewing.com/events/garage-brewers-society/2026-09-15/
LOCATION:Third Wheel Brewing\, 4008 N. Service Rd\, St. Peters\, MO\, 63376\, United States
CATEGORIES:Event
ATTACH;FMTTYPE=image/jpeg:https://thirdwheelbrewing.com/wp-content/uploads/2024/03/Garagebrewers.jpg
END:VEVENT
BEGIN:VEVENT
DTSTART;TZID=America/Chicago:20260917T190000
DTEND;TZID=America/Chicago:20260917T210000
DTSTAMP:20260423T055858
CREATED:20251114T023443Z
LAST-MODIFIED:20251114T023444Z
UID:990000945-1789671600-1789678800@thirdwheelbrewing.com
SUMMARY:Beer Bingo Thursday
DESCRIPTION:Beer bingo is fun and free to play with a food or beverage purchase!  The game starts at 7pm every Thursday.
URL:https://thirdwheelbrewing.com/events/beer-bingo-tonight-2/2026-09-17/
LOCATION:Third Wheel Brewing\, 4008 N. Service Rd\, St. Peters\, MO\, 63376\, United States
CATEGORIES:Bingo
ATTACH;FMTTYPE=image/jpeg:https://thirdwheelbrewing.com/wp-content/uploads/2024/01/23-10-26-third-wheel-48073.jpg
END:VEVENT
BEGIN:VEVENT
DTSTART;TZID=America/Chicago:20260918T150000
DTEND;TZID=America/Chicago:20260918T190000
DTSTAMP:20260423T055858
CREATED:20250608T213953Z
LAST-MODIFIED:20250610T145059Z
UID:990001207-1789743600-1789758000@thirdwheelbrewing.com
SUMMARY:Happy Hour every Friday
DESCRIPTION:Enjoy $2 off all of our core beers from 3-7 every Friday
URL:https://thirdwheelbrewing.com/events/happy-hour-every-friday/2026-09-18/
LOCATION:Third Wheel Brewing\, 4008 N. Service Rd\, St. Peters\, MO\, 63376\, United States
ATTACH;FMTTYPE=image/jpeg:https://thirdwheelbrewing.com/wp-content/uploads/2023/12/Third-Wheel-Brewing-.jpg
END:VEVENT
BEGIN:VEVENT
DTSTART;TZID=America/Chicago:20260920T130000
DTEND;TZID=America/Chicago:20260920T170000
DTSTAMP:20260423T055858
CREATED:20260328T023318Z
LAST-MODIFIED:20260329T002254Z
UID:990001752-1789909200-1789923600@thirdwheelbrewing.com
SUMMARY:Puzzles & Guzzles
DESCRIPTION:Puzzle Lovers and Beer Enthusiasts Unite! Looking for great fun\, friends\, and a challenge? Join us for Puzzles & Guzzles – where your brain gets a workout and your taste buds are in for a treat! What to expect: Gather your team of 2-6 people Register at the bar the day of the event.  $10 per person\, includes a flight of Third Wheel Beer for each adult.  Complete a 300-piece jigsaw puzzle and your beer flights in the fastest time! Tons of laughter\, great company\, and a little healthy competition! Start any time between 1pm – 5pm.
URL:https://thirdwheelbrewing.com/events/puzzles-guzzles-2-2-2/2026-09-20/
LOCATION:Third Wheel Brewing\, 4008 N. Service Rd\, St. Peters\, MO\, 63376\, United States
CATEGORIES:Event
ATTACH;FMTTYPE=image/webp:https://thirdwheelbrewing.com/wp-content/uploads/2025/11/Puzzles-no-dates.webp
END:VEVENT
BEGIN:VEVENT
DTSTART;TZID=America/Chicago:20260924T190000
DTEND;TZID=America/Chicago:20260924T210000
DTSTAMP:20260423T055858
CREATED:20251114T023443Z
LAST-MODIFIED:20251114T023444Z
UID:990000946-1790276400-1790283600@thirdwheelbrewing.com
SUMMARY:Beer Bingo Thursday
DESCRIPTION:Beer bingo is fun and free to play with a food or beverage purchase!  The game starts at 7pm every Thursday.
URL:https://thirdwheelbrewing.com/events/beer-bingo-tonight-2/2026-09-24/
LOCATION:Third Wheel Brewing\, 4008 N. Service Rd\, St. Peters\, MO\, 63376\, United States
CATEGORIES:Bingo
ATTACH;FMTTYPE=image/jpeg:https://thirdwheelbrewing.com/wp-content/uploads/2024/01/23-10-26-third-wheel-48073.jpg
END:VEVENT
BEGIN:VEVENT
DTSTART;TZID=America/Chicago:20260925T150000
DTEND;TZID=America/Chicago:20260925T190000
DTSTAMP:20260423T055858
CREATED:20250608T213953Z
LAST-MODIFIED:20250610T145059Z
UID:990001208-1790348400-1790362800@thirdwheelbrewing.com
SUMMARY:Happy Hour every Friday
DESCRIPTION:Enjoy $2 off all of our core beers from 3-7 every Friday
URL:https://thirdwheelbrewing.com/events/happy-hour-every-friday/2026-09-25/
LOCATION:Third Wheel Brewing\, 4008 N. Service Rd\, St. Peters\, MO\, 63376\, United States
ATTACH;FMTTYPE=image/jpeg:https://thirdwheelbrewing.com/wp-content/uploads/2023/12/Third-Wheel-Brewing-.jpg
END:VEVENT
BEGIN:VEVENT
DTSTART;TZID=America/Chicago:20261001T190000
DTEND;TZID=America/Chicago:20261001T210000
DTSTAMP:20260423T055858
CREATED:20251114T023443Z
LAST-MODIFIED:20251114T023444Z
UID:990000947-1790881200-1790888400@thirdwheelbrewing.com
SUMMARY:Beer Bingo Thursday
DESCRIPTION:Beer bingo is fun and free to play with a food or beverage purchase!  The game starts at 7pm every Thursday.
URL:https://thirdwheelbrewing.com/events/beer-bingo-tonight-2/2026-10-01/
LOCATION:Third Wheel Brewing\, 4008 N. Service Rd\, St. Peters\, MO\, 63376\, United States
CATEGORIES:Bingo
ATTACH;FMTTYPE=image/jpeg:https://thirdwheelbrewing.com/wp-content/uploads/2024/01/23-10-26-third-wheel-48073.jpg
END:VEVENT
BEGIN:VEVENT
DTSTART;TZID=America/Chicago:20261002T150000
DTEND;TZID=America/Chicago:20261002T190000
DTSTAMP:20260423T055858
CREATED:20250608T213953Z
LAST-MODIFIED:20250610T145059Z
UID:990001209-1790953200-1790967600@thirdwheelbrewing.com
SUMMARY:Happy Hour every Friday
DESCRIPTION:Enjoy $2 off all of our core beers from 3-7 every Friday
URL:https://thirdwheelbrewing.com/events/happy-hour-every-friday/2026-10-02/
LOCATION:Third Wheel Brewing\, 4008 N. Service Rd\, St. Peters\, MO\, 63376\, United States
ATTACH;FMTTYPE=image/jpeg:https://thirdwheelbrewing.com/wp-content/uploads/2023/12/Third-Wheel-Brewing-.jpg
END:VEVENT
BEGIN:VEVENT
DTSTART;TZID=America/Chicago:20261004T130000
DTEND;TZID=America/Chicago:20261004T170000
DTSTAMP:20260423T055858
CREATED:20260328T023318Z
LAST-MODIFIED:20260329T002254Z
UID:990001753-1791118800-1791133200@thirdwheelbrewing.com
SUMMARY:Puzzles & Guzzles
DESCRIPTION:Puzzle Lovers and Beer Enthusiasts Unite! Looking for great fun\, friends\, and a challenge? Join us for Puzzles & Guzzles – where your brain gets a workout and your taste buds are in for a treat! What to expect: Gather your team of 2-6 people Register at the bar the day of the event.  $10 per person\, includes a flight of Third Wheel Beer for each adult.  Complete a 300-piece jigsaw puzzle and your beer flights in the fastest time! Tons of laughter\, great company\, and a little healthy competition! Start any time between 1pm – 5pm.
URL:https://thirdwheelbrewing.com/events/puzzles-guzzles-2-2-2/2026-10-04/
LOCATION:Third Wheel Brewing\, 4008 N. Service Rd\, St. Peters\, MO\, 63376\, United States
CATEGORIES:Event
ATTACH;FMTTYPE=image/webp:https://thirdwheelbrewing.com/wp-content/uploads/2025/11/Puzzles-no-dates.webp
END:VEVENT
BEGIN:VEVENT
DTSTART;TZID=America/Chicago:20261008T190000
DTEND;TZID=America/Chicago:20261008T210000
DTSTAMP:20260423T055858
CREATED:20251114T023443Z
LAST-MODIFIED:20251114T023444Z
UID:990000948-1791486000-1791493200@thirdwheelbrewing.com
SUMMARY:Beer Bingo Thursday
DESCRIPTION:Beer bingo is fun and free to play with a food or beverage purchase!  The game starts at 7pm every Thursday.
URL:https://thirdwheelbrewing.com/events/beer-bingo-tonight-2/2026-10-08/
LOCATION:Third Wheel Brewing\, 4008 N. Service Rd\, St. Peters\, MO\, 63376\, United States
CATEGORIES:Bingo
ATTACH;FMTTYPE=image/jpeg:https://thirdwheelbrewing.com/wp-content/uploads/2024/01/23-10-26-third-wheel-48073.jpg
END:VEVENT
BEGIN:VEVENT
DTSTART;TZID=America/Chicago:20261009T150000
DTEND;TZID=America/Chicago:20261009T190000
DTSTAMP:20260423T055858
CREATED:20250608T213953Z
LAST-MODIFIED:20250610T145059Z
UID:990001210-1791558000-1791572400@thirdwheelbrewing.com
SUMMARY:Happy Hour every Friday
DESCRIPTION:Enjoy $2 off all of our core beers from 3-7 every Friday
URL:https://thirdwheelbrewing.com/events/happy-hour-every-friday/2026-10-09/
LOCATION:Third Wheel Brewing\, 4008 N. Service Rd\, St. Peters\, MO\, 63376\, United States
ATTACH;FMTTYPE=image/jpeg:https://thirdwheelbrewing.com/wp-content/uploads/2023/12/Third-Wheel-Brewing-.jpg
END:VEVENT
BEGIN:VEVENT
DTSTART;TZID=America/Chicago:20261015T190000
DTEND;TZID=America/Chicago:20261015T210000
DTSTAMP:20260423T055858
CREATED:20251114T023443Z
LAST-MODIFIED:20251114T023444Z
UID:990000949-1792090800-1792098000@thirdwheelbrewing.com
SUMMARY:Beer Bingo Thursday
DESCRIPTION:Beer bingo is fun and free to play with a food or beverage purchase!  The game starts at 7pm every Thursday.
URL:https://thirdwheelbrewing.com/events/beer-bingo-tonight-2/2026-10-15/
LOCATION:Third Wheel Brewing\, 4008 N. Service Rd\, St. Peters\, MO\, 63376\, United States
CATEGORIES:Bingo
ATTACH;FMTTYPE=image/jpeg:https://thirdwheelbrewing.com/wp-content/uploads/2024/01/23-10-26-third-wheel-48073.jpg
END:VEVENT
BEGIN:VEVENT
DTSTART;TZID=America/Chicago:20261016T150000
DTEND;TZID=America/Chicago:20261016T190000
DTSTAMP:20260423T055858
CREATED:20250608T213953Z
LAST-MODIFIED:20250610T145059Z
UID:990001211-1792162800-1792177200@thirdwheelbrewing.com
SUMMARY:Happy Hour every Friday
DESCRIPTION:Enjoy $2 off all of our core beers from 3-7 every Friday
URL:https://thirdwheelbrewing.com/events/happy-hour-every-friday/2026-10-16/
LOCATION:Third Wheel Brewing\, 4008 N. Service Rd\, St. Peters\, MO\, 63376\, United States
ATTACH;FMTTYPE=image/jpeg:https://thirdwheelbrewing.com/wp-content/uploads/2023/12/Third-Wheel-Brewing-.jpg
END:VEVENT
BEGIN:VEVENT
DTSTART;TZID=America/Chicago:20261018T130000
DTEND;TZID=America/Chicago:20261018T170000
DTSTAMP:20260423T055858
CREATED:20260328T023318Z
LAST-MODIFIED:20260329T002254Z
UID:990001754-1792328400-1792342800@thirdwheelbrewing.com
SUMMARY:Puzzles & Guzzles
DESCRIPTION:Puzzle Lovers and Beer Enthusiasts Unite! Looking for great fun\, friends\, and a challenge? Join us for Puzzles & Guzzles – where your brain gets a workout and your taste buds are in for a treat! What to expect: Gather your team of 2-6 people Register at the bar the day of the event.  $10 per person\, includes a flight of Third Wheel Beer for each adult.  Complete a 300-piece jigsaw puzzle and your beer flights in the fastest time! Tons of laughter\, great company\, and a little healthy competition! Start any time between 1pm – 5pm.
URL:https://thirdwheelbrewing.com/events/puzzles-guzzles-2-2-2/2026-10-18/
LOCATION:Third Wheel Brewing\, 4008 N. Service Rd\, St. Peters\, MO\, 63376\, United States
CATEGORIES:Event
ATTACH;FMTTYPE=image/webp:https://thirdwheelbrewing.com/wp-content/uploads/2025/11/Puzzles-no-dates.webp
END:VEVENT
BEGIN:VEVENT
DTSTART;TZID=America/Chicago:20261020T190000
DTEND;TZID=America/Chicago:20261020T210000
DTSTAMP:20260423T055858
CREATED:20240306T211847Z
LAST-MODIFIED:20260221T211351Z
UID:990000619-1792522800-1792530000@thirdwheelbrewing.com
SUMMARY:Garage Brewer’s Society
DESCRIPTION:🏠🍻 Calling all homebrew enthusiasts! 🌟 Join us for Garage Brewer’s Society from 7-9 pm and connect with fellow homebrewers! Don’t miss out on this opportunity to share your passion for brewing! #Homebrewing #GarageBrewersSociety
URL:https://thirdwheelbrewing.com/events/garage-brewers-society/2026-10-20/
LOCATION:Third Wheel Brewing\, 4008 N. Service Rd\, St. Peters\, MO\, 63376\, United States
CATEGORIES:Event
ATTACH;FMTTYPE=image/jpeg:https://thirdwheelbrewing.com/wp-content/uploads/2024/03/Garagebrewers.jpg
END:VEVENT
BEGIN:VEVENT
DTSTART;TZID=America/Chicago:20261022T190000
DTEND;TZID=America/Chicago:20261022T210000
DTSTAMP:20260423T055858
CREATED:20251114T023443Z
LAST-MODIFIED:20251114T023444Z
UID:990000950-1792695600-1792702800@thirdwheelbrewing.com
SUMMARY:Beer Bingo Thursday
DESCRIPTION:Beer bingo is fun and free to play with a food or beverage purchase!  The game starts at 7pm every Thursday.
URL:https://thirdwheelbrewing.com/events/beer-bingo-tonight-2/2026-10-22/
LOCATION:Third Wheel Brewing\, 4008 N. Service Rd\, St. Peters\, MO\, 63376\, United States
CATEGORIES:Bingo
ATTACH;FMTTYPE=image/jpeg:https://thirdwheelbrewing.com/wp-content/uploads/2024/01/23-10-26-third-wheel-48073.jpg
END:VEVENT
BEGIN:VEVENT
DTSTART;TZID=America/Chicago:20261023T150000
DTEND;TZID=America/Chicago:20261023T190000
DTSTAMP:20260423T055858
CREATED:20250608T213953Z
LAST-MODIFIED:20250610T145059Z
UID:990001212-1792767600-1792782000@thirdwheelbrewing.com
SUMMARY:Happy Hour every Friday
DESCRIPTION:Enjoy $2 off all of our core beers from 3-7 every Friday
URL:https://thirdwheelbrewing.com/events/happy-hour-every-friday/2026-10-23/
LOCATION:Third Wheel Brewing\, 4008 N. Service Rd\, St. Peters\, MO\, 63376\, United States
ATTACH;FMTTYPE=image/jpeg:https://thirdwheelbrewing.com/wp-content/uploads/2023/12/Third-Wheel-Brewing-.jpg
END:VEVENT
BEGIN:VEVENT
DTSTART;TZID=America/Chicago:20261029T190000
DTEND;TZID=America/Chicago:20261029T210000
DTSTAMP:20260423T055858
CREATED:20251114T023443Z
LAST-MODIFIED:20251114T023444Z
UID:990000951-1793300400-1793307600@thirdwheelbrewing.com
SUMMARY:Beer Bingo Thursday
DESCRIPTION:Beer bingo is fun and free to play with a food or beverage purchase!  The game starts at 7pm every Thursday.
URL:https://thirdwheelbrewing.com/events/beer-bingo-tonight-2/2026-10-29/
LOCATION:Third Wheel Brewing\, 4008 N. Service Rd\, St. Peters\, MO\, 63376\, United States
CATEGORIES:Bingo
ATTACH;FMTTYPE=image/jpeg:https://thirdwheelbrewing.com/wp-content/uploads/2024/01/23-10-26-third-wheel-48073.jpg
END:VEVENT
BEGIN:VEVENT
DTSTART;TZID=America/Chicago:20261030T150000
DTEND;TZID=America/Chicago:20261030T190000
DTSTAMP:20260423T055858
CREATED:20250608T213953Z
LAST-MODIFIED:20250610T145059Z
UID:990001213-1793372400-1793386800@thirdwheelbrewing.com
SUMMARY:Happy Hour every Friday
DESCRIPTION:Enjoy $2 off all of our core beers from 3-7 every Friday
URL:https://thirdwheelbrewing.com/events/happy-hour-every-friday/2026-10-30/
LOCATION:Third Wheel Brewing\, 4008 N. Service Rd\, St. Peters\, MO\, 63376\, United States
ATTACH;FMTTYPE=image/jpeg:https://thirdwheelbrewing.com/wp-content/uploads/2023/12/Third-Wheel-Brewing-.jpg
END:VEVENT
BEGIN:VEVENT
DTSTART;TZID=America/Chicago:20261101T130000
DTEND;TZID=America/Chicago:20261101T170000
DTSTAMP:20260423T055858
CREATED:20260328T023318Z
LAST-MODIFIED:20260329T002254Z
UID:990001755-1793538000-1793552400@thirdwheelbrewing.com
SUMMARY:Puzzles & Guzzles
DESCRIPTION:Puzzle Lovers and Beer Enthusiasts Unite! Looking for great fun\, friends\, and a challenge? Join us for Puzzles & Guzzles – where your brain gets a workout and your taste buds are in for a treat! What to expect: Gather your team of 2-6 people Register at the bar the day of the event.  $10 per person\, includes a flight of Third Wheel Beer for each adult.  Complete a 300-piece jigsaw puzzle and your beer flights in the fastest time! Tons of laughter\, great company\, and a little healthy competition! Start any time between 1pm – 5pm.
URL:https://thirdwheelbrewing.com/events/puzzles-guzzles-2-2-2/2026-11-01/
LOCATION:Third Wheel Brewing\, 4008 N. Service Rd\, St. Peters\, MO\, 63376\, United States
CATEGORIES:Event
ATTACH;FMTTYPE=image/webp:https://thirdwheelbrewing.com/wp-content/uploads/2025/11/Puzzles-no-dates.webp
END:VEVENT
BEGIN:VEVENT
DTSTART;TZID=America/Chicago:20261105T190000
DTEND;TZID=America/Chicago:20261105T210000
DTSTAMP:20260423T055858
CREATED:20251114T023443Z
LAST-MODIFIED:20251114T023444Z
UID:990000952-1793905200-1793912400@thirdwheelbrewing.com
SUMMARY:Beer Bingo Thursday
DESCRIPTION:Beer bingo is fun and free to play with a food or beverage purchase!  The game starts at 7pm every Thursday.
URL:https://thirdwheelbrewing.com/events/beer-bingo-tonight-2/2026-11-05/
LOCATION:Third Wheel Brewing\, 4008 N. Service Rd\, St. Peters\, MO\, 63376\, United States
CATEGORIES:Bingo
ATTACH;FMTTYPE=image/jpeg:https://thirdwheelbrewing.com/wp-content/uploads/2024/01/23-10-26-third-wheel-48073.jpg
END:VEVENT
BEGIN:VEVENT
DTSTART;TZID=America/Chicago:20261106T150000
DTEND;TZID=America/Chicago:20261106T190000
DTSTAMP:20260423T055858
CREATED:20250608T213953Z
LAST-MODIFIED:20250610T145059Z
UID:990001214-1793977200-1793991600@thirdwheelbrewing.com
SUMMARY:Happy Hour every Friday
DESCRIPTION:Enjoy $2 off all of our core beers from 3-7 every Friday
URL:https://thirdwheelbrewing.com/events/happy-hour-every-friday/2026-11-06/
LOCATION:Third Wheel Brewing\, 4008 N. Service Rd\, St. Peters\, MO\, 63376\, United States
ATTACH;FMTTYPE=image/jpeg:https://thirdwheelbrewing.com/wp-content/uploads/2023/12/Third-Wheel-Brewing-.jpg
END:VEVENT
BEGIN:VEVENT
DTSTART;TZID=America/Chicago:20261112T190000
DTEND;TZID=America/Chicago:20261112T210000
DTSTAMP:20260423T055858
CREATED:20251114T023443Z
LAST-MODIFIED:20251114T023444Z
UID:990000953-1794510000-1794517200@thirdwheelbrewing.com
SUMMARY:Beer Bingo Thursday
DESCRIPTION:Beer bingo is fun and free to play with a food or beverage purchase!  The game starts at 7pm every Thursday.
URL:https://thirdwheelbrewing.com/events/beer-bingo-tonight-2/2026-11-12/
LOCATION:Third Wheel Brewing\, 4008 N. Service Rd\, St. Peters\, MO\, 63376\, United States
CATEGORIES:Bingo
ATTACH;FMTTYPE=image/jpeg:https://thirdwheelbrewing.com/wp-content/uploads/2024/01/23-10-26-third-wheel-48073.jpg
END:VEVENT
BEGIN:VEVENT
DTSTART;TZID=America/Chicago:20261113T150000
DTEND;TZID=America/Chicago:20261113T190000
DTSTAMP:20260423T055858
CREATED:20250608T213953Z
LAST-MODIFIED:20250610T145059Z
UID:990001215-1794582000-1794596400@thirdwheelbrewing.com
SUMMARY:Happy Hour every Friday
DESCRIPTION:Enjoy $2 off all of our core beers from 3-7 every Friday
URL:https://thirdwheelbrewing.com/events/happy-hour-every-friday/2026-11-13/
LOCATION:Third Wheel Brewing\, 4008 N. Service Rd\, St. Peters\, MO\, 63376\, United States
ATTACH;FMTTYPE=image/jpeg:https://thirdwheelbrewing.com/wp-content/uploads/2023/12/Third-Wheel-Brewing-.jpg
END:VEVENT
BEGIN:VEVENT
DTSTART;TZID=America/Chicago:20261115T130000
DTEND;TZID=America/Chicago:20261115T170000
DTSTAMP:20260423T055858
CREATED:20260328T023318Z
LAST-MODIFIED:20260329T002254Z
UID:990001758-1794747600-1794762000@thirdwheelbrewing.com
SUMMARY:Puzzles & Guzzles
DESCRIPTION:Puzzle Lovers and Beer Enthusiasts Unite! Looking for great fun\, friends\, and a challenge? Join us for Puzzles & Guzzles – where your brain gets a workout and your taste buds are in for a treat! What to expect: Gather your team of 2-6 people Register at the bar the day of the event.  $10 per person\, includes a flight of Third Wheel Beer for each adult.  Complete a 300-piece jigsaw puzzle and your beer flights in the fastest time! Tons of laughter\, great company\, and a little healthy competition! Start any time between 1pm – 5pm.
URL:https://thirdwheelbrewing.com/events/puzzles-guzzles-2-2-2/2026-11-15/
LOCATION:Third Wheel Brewing\, 4008 N. Service Rd\, St. Peters\, MO\, 63376\, United States
CATEGORIES:Event
ATTACH;FMTTYPE=image/webp:https://thirdwheelbrewing.com/wp-content/uploads/2025/11/Puzzles-no-dates.webp
END:VEVENT
BEGIN:VEVENT
DTSTART;TZID=America/Chicago:20261117T190000
DTEND;TZID=America/Chicago:20261117T210000
DTSTAMP:20260423T055858
CREATED:20240306T211847Z
LAST-MODIFIED:20260221T211351Z
UID:990000620-1794942000-1794949200@thirdwheelbrewing.com
SUMMARY:Garage Brewer’s Society
DESCRIPTION:🏠🍻 Calling all homebrew enthusiasts! 🌟 Join us for Garage Brewer’s Society from 7-9 pm and connect with fellow homebrewers! Don’t miss out on this opportunity to share your passion for brewing! #Homebrewing #GarageBrewersSociety
URL:https://thirdwheelbrewing.com/events/garage-brewers-society/2026-11-17/
LOCATION:Third Wheel Brewing\, 4008 N. Service Rd\, St. Peters\, MO\, 63376\, United States
CATEGORIES:Event
ATTACH;FMTTYPE=image/jpeg:https://thirdwheelbrewing.com/wp-content/uploads/2024/03/Garagebrewers.jpg
END:VEVENT
BEGIN:VEVENT
DTSTART;TZID=America/Chicago:20261119T190000
DTEND;TZID=America/Chicago:20261119T210000
DTSTAMP:20260423T055858
CREATED:20251114T023443Z
LAST-MODIFIED:20251114T023444Z
UID:990000954-1795114800-1795122000@thirdwheelbrewing.com
SUMMARY:Beer Bingo Thursday
DESCRIPTION:Beer bingo is fun and free to play with a food or beverage purchase!  The game starts at 7pm every Thursday.
URL:https://thirdwheelbrewing.com/events/beer-bingo-tonight-2/2026-11-19/
LOCATION:Third Wheel Brewing\, 4008 N. Service Rd\, St. Peters\, MO\, 63376\, United States
CATEGORIES:Bingo
ATTACH;FMTTYPE=image/jpeg:https://thirdwheelbrewing.com/wp-content/uploads/2024/01/23-10-26-third-wheel-48073.jpg
END:VEVENT
END:VCALENDAR