BEGIN:VCALENDAR
VERSION:2.0
PRODID:-//Third Wheel Brewing - ECPv6.15.20//NONSGML v1.0//EN
CALSCALE:GREGORIAN
METHOD:PUBLISH
X-ORIGINAL-URL:https://thirdwheelbrewing.com
X-WR-CALDESC:Events for Third Wheel Brewing
REFRESH-INTERVAL;VALUE=DURATION:PT1H
X-Robots-Tag:noindex
X-PUBLISHED-TTL:PT1H
BEGIN:VTIMEZONE
TZID:America/Chicago
BEGIN:DAYLIGHT
TZOFFSETFROM:-0600
TZOFFSETTO:-0500
TZNAME:CDT
DTSTART:20250309T080000
END:DAYLIGHT
BEGIN:STANDARD
TZOFFSETFROM:-0500
TZOFFSETTO:-0600
TZNAME:CST
DTSTART:20251102T070000
END:STANDARD
BEGIN:DAYLIGHT
TZOFFSETFROM:-0600
TZOFFSETTO:-0500
TZNAME:CDT
DTSTART:20260308T080000
END:DAYLIGHT
BEGIN:STANDARD
TZOFFSETFROM:-0500
TZOFFSETTO:-0600
TZNAME:CST
DTSTART:20261101T070000
END:STANDARD
BEGIN:DAYLIGHT
TZOFFSETFROM:-0600
TZOFFSETTO:-0500
TZNAME:CDT
DTSTART:20270314T080000
END:DAYLIGHT
BEGIN:STANDARD
TZOFFSETFROM:-0500
TZOFFSETTO:-0600
TZNAME:CST
DTSTART:20271107T070000
END:STANDARD
END:VTIMEZONE
BEGIN:VEVENT
DTSTART;TZID=America/Chicago:20260612T150000
DTEND;TZID=America/Chicago:20260612T190000
DTSTAMP:20260423T024443
CREATED:20250608T213953Z
LAST-MODIFIED:20250610T145059Z
UID:990001193-1781276400-1781290800@thirdwheelbrewing.com
SUMMARY:Happy Hour every Friday
DESCRIPTION:Enjoy $2 off all of our core beers from 3-7 every Friday
URL:https://thirdwheelbrewing.com/events/happy-hour-every-friday/2026-06-12/
LOCATION:Third Wheel Brewing\, 4008 N. Service Rd\, St. Peters\, MO\, 63376\, United States
ATTACH;FMTTYPE=image/jpeg:https://thirdwheelbrewing.com/wp-content/uploads/2023/12/Third-Wheel-Brewing-.jpg
END:VEVENT
BEGIN:VEVENT
DTSTART;TZID=America/Chicago:20260614T130000
DTEND;TZID=America/Chicago:20260614T170000
DTSTAMP:20260423T024443
CREATED:20260328T023318Z
LAST-MODIFIED:20260329T002254Z
UID:990001646-1781442000-1781456400@thirdwheelbrewing.com
SUMMARY:Puzzles & Guzzles
DESCRIPTION:Puzzle Lovers and Beer Enthusiasts Unite! Looking for great fun\, friends\, and a challenge? Join us for Puzzles & Guzzles – where your brain gets a workout and your taste buds are in for a treat! What to expect: Gather your team of 2-6 people Register at the bar the day of the event.  $10 per person\, includes a flight of Third Wheel Beer for each adult.  Complete a 300-piece jigsaw puzzle and your beer flights in the fastest time! Tons of laughter\, great company\, and a little healthy competition! Start any time between 1pm – 5pm.
URL:https://thirdwheelbrewing.com/events/puzzles-guzzles-2-2-2/2026-06-14/
LOCATION:Third Wheel Brewing\, 4008 N. Service Rd\, St. Peters\, MO\, 63376\, United States
CATEGORIES:Event
ATTACH;FMTTYPE=image/webp:https://thirdwheelbrewing.com/wp-content/uploads/2025/11/Puzzles-no-dates.webp
END:VEVENT
BEGIN:VEVENT
DTSTART;TZID=America/Chicago:20260616T190000
DTEND;TZID=America/Chicago:20260616T210000
DTSTAMP:20260423T024443
CREATED:20240306T211847Z
LAST-MODIFIED:20260221T211351Z
UID:990000615-1781636400-1781643600@thirdwheelbrewing.com
SUMMARY:Garage Brewer’s Society
DESCRIPTION:🏠🍻 Calling all homebrew enthusiasts! 🌟 Join us for Garage Brewer’s Society from 7-9 pm and connect with fellow homebrewers! Don’t miss out on this opportunity to share your passion for brewing! #Homebrewing #GarageBrewersSociety
URL:https://thirdwheelbrewing.com/events/garage-brewers-society/2026-06-16/
LOCATION:Third Wheel Brewing\, 4008 N. Service Rd\, St. Peters\, MO\, 63376\, United States
CATEGORIES:Event
ATTACH;FMTTYPE=image/jpeg:https://thirdwheelbrewing.com/wp-content/uploads/2024/03/Garagebrewers.jpg
END:VEVENT
BEGIN:VEVENT
DTSTART;TZID=America/Chicago:20260618T190000
DTEND;TZID=America/Chicago:20260618T210000
DTSTAMP:20260423T024443
CREATED:20251114T023443Z
LAST-MODIFIED:20251114T023444Z
UID:990000932-1781809200-1781816400@thirdwheelbrewing.com
SUMMARY:Beer Bingo Thursday
DESCRIPTION:Beer bingo is fun and free to play with a food or beverage purchase!  The game starts at 7pm every Thursday.
URL:https://thirdwheelbrewing.com/events/beer-bingo-tonight-2/2026-06-18/
LOCATION:Third Wheel Brewing\, 4008 N. Service Rd\, St. Peters\, MO\, 63376\, United States
CATEGORIES:Bingo
ATTACH;FMTTYPE=image/jpeg:https://thirdwheelbrewing.com/wp-content/uploads/2024/01/23-10-26-third-wheel-48073.jpg
END:VEVENT
BEGIN:VEVENT
DTSTART;TZID=America/Chicago:20260619T150000
DTEND;TZID=America/Chicago:20260619T190000
DTSTAMP:20260423T024443
CREATED:20250608T213953Z
LAST-MODIFIED:20250610T145059Z
UID:990001194-1781881200-1781895600@thirdwheelbrewing.com
SUMMARY:Happy Hour every Friday
DESCRIPTION:Enjoy $2 off all of our core beers from 3-7 every Friday
URL:https://thirdwheelbrewing.com/events/happy-hour-every-friday/2026-06-19/
LOCATION:Third Wheel Brewing\, 4008 N. Service Rd\, St. Peters\, MO\, 63376\, United States
ATTACH;FMTTYPE=image/jpeg:https://thirdwheelbrewing.com/wp-content/uploads/2023/12/Third-Wheel-Brewing-.jpg
END:VEVENT
BEGIN:VEVENT
DTSTART;TZID=America/Chicago:20260625T190000
DTEND;TZID=America/Chicago:20260625T210000
DTSTAMP:20260423T024443
CREATED:20251114T023443Z
LAST-MODIFIED:20251114T023444Z
UID:990000933-1782414000-1782421200@thirdwheelbrewing.com
SUMMARY:Beer Bingo Thursday
DESCRIPTION:Beer bingo is fun and free to play with a food or beverage purchase!  The game starts at 7pm every Thursday.
URL:https://thirdwheelbrewing.com/events/beer-bingo-tonight-2/2026-06-25/
LOCATION:Third Wheel Brewing\, 4008 N. Service Rd\, St. Peters\, MO\, 63376\, United States
CATEGORIES:Bingo
ATTACH;FMTTYPE=image/jpeg:https://thirdwheelbrewing.com/wp-content/uploads/2024/01/23-10-26-third-wheel-48073.jpg
END:VEVENT
BEGIN:VEVENT
DTSTART;TZID=America/Chicago:20260626T150000
DTEND;TZID=America/Chicago:20260626T190000
DTSTAMP:20260423T024443
CREATED:20250608T213953Z
LAST-MODIFIED:20250610T145059Z
UID:990001195-1782486000-1782500400@thirdwheelbrewing.com
SUMMARY:Happy Hour every Friday
DESCRIPTION:Enjoy $2 off all of our core beers from 3-7 every Friday
URL:https://thirdwheelbrewing.com/events/happy-hour-every-friday/2026-06-26/
LOCATION:Third Wheel Brewing\, 4008 N. Service Rd\, St. Peters\, MO\, 63376\, United States
ATTACH;FMTTYPE=image/jpeg:https://thirdwheelbrewing.com/wp-content/uploads/2023/12/Third-Wheel-Brewing-.jpg
END:VEVENT
BEGIN:VEVENT
DTSTART;TZID=America/Chicago:20260628T130000
DTEND;TZID=America/Chicago:20260628T170000
DTSTAMP:20260423T024443
CREATED:20260328T023318Z
LAST-MODIFIED:20260329T002254Z
UID:990001647-1782651600-1782666000@thirdwheelbrewing.com
SUMMARY:Puzzles & Guzzles
DESCRIPTION:Puzzle Lovers and Beer Enthusiasts Unite! Looking for great fun\, friends\, and a challenge? Join us for Puzzles & Guzzles – where your brain gets a workout and your taste buds are in for a treat! What to expect: Gather your team of 2-6 people Register at the bar the day of the event.  $10 per person\, includes a flight of Third Wheel Beer for each adult.  Complete a 300-piece jigsaw puzzle and your beer flights in the fastest time! Tons of laughter\, great company\, and a little healthy competition! Start any time between 1pm – 5pm.
URL:https://thirdwheelbrewing.com/events/puzzles-guzzles-2-2-2/2026-06-28/
LOCATION:Third Wheel Brewing\, 4008 N. Service Rd\, St. Peters\, MO\, 63376\, United States
CATEGORIES:Event
ATTACH;FMTTYPE=image/webp:https://thirdwheelbrewing.com/wp-content/uploads/2025/11/Puzzles-no-dates.webp
END:VEVENT
BEGIN:VEVENT
DTSTART;TZID=America/Chicago:20260702T190000
DTEND;TZID=America/Chicago:20260702T210000
DTSTAMP:20260423T024443
CREATED:20251114T023443Z
LAST-MODIFIED:20251114T023444Z
UID:990000934-1783018800-1783026000@thirdwheelbrewing.com
SUMMARY:Beer Bingo Thursday
DESCRIPTION:Beer bingo is fun and free to play with a food or beverage purchase!  The game starts at 7pm every Thursday.
URL:https://thirdwheelbrewing.com/events/beer-bingo-tonight-2/2026-07-02/
LOCATION:Third Wheel Brewing\, 4008 N. Service Rd\, St. Peters\, MO\, 63376\, United States
CATEGORIES:Bingo
ATTACH;FMTTYPE=image/jpeg:https://thirdwheelbrewing.com/wp-content/uploads/2024/01/23-10-26-third-wheel-48073.jpg
END:VEVENT
BEGIN:VEVENT
DTSTART;TZID=America/Chicago:20260703T150000
DTEND;TZID=America/Chicago:20260703T190000
DTSTAMP:20260423T024443
CREATED:20250608T213953Z
LAST-MODIFIED:20250610T145059Z
UID:990001196-1783090800-1783105200@thirdwheelbrewing.com
SUMMARY:Happy Hour every Friday
DESCRIPTION:Enjoy $2 off all of our core beers from 3-7 every Friday
URL:https://thirdwheelbrewing.com/events/happy-hour-every-friday/2026-07-03/
LOCATION:Third Wheel Brewing\, 4008 N. Service Rd\, St. Peters\, MO\, 63376\, United States
ATTACH;FMTTYPE=image/jpeg:https://thirdwheelbrewing.com/wp-content/uploads/2023/12/Third-Wheel-Brewing-.jpg
END:VEVENT
BEGIN:VEVENT
DTSTART;TZID=America/Chicago:20260709T190000
DTEND;TZID=America/Chicago:20260709T210000
DTSTAMP:20260423T024443
CREATED:20251114T023443Z
LAST-MODIFIED:20251114T023444Z
UID:990000935-1783623600-1783630800@thirdwheelbrewing.com
SUMMARY:Beer Bingo Thursday
DESCRIPTION:Beer bingo is fun and free to play with a food or beverage purchase!  The game starts at 7pm every Thursday.
URL:https://thirdwheelbrewing.com/events/beer-bingo-tonight-2/2026-07-09/
LOCATION:Third Wheel Brewing\, 4008 N. Service Rd\, St. Peters\, MO\, 63376\, United States
CATEGORIES:Bingo
ATTACH;FMTTYPE=image/jpeg:https://thirdwheelbrewing.com/wp-content/uploads/2024/01/23-10-26-third-wheel-48073.jpg
END:VEVENT
BEGIN:VEVENT
DTSTART;TZID=America/Chicago:20260710T150000
DTEND;TZID=America/Chicago:20260710T190000
DTSTAMP:20260423T024443
CREATED:20250608T213953Z
LAST-MODIFIED:20250610T145059Z
UID:990001197-1783695600-1783710000@thirdwheelbrewing.com
SUMMARY:Happy Hour every Friday
DESCRIPTION:Enjoy $2 off all of our core beers from 3-7 every Friday
URL:https://thirdwheelbrewing.com/events/happy-hour-every-friday/2026-07-10/
LOCATION:Third Wheel Brewing\, 4008 N. Service Rd\, St. Peters\, MO\, 63376\, United States
ATTACH;FMTTYPE=image/jpeg:https://thirdwheelbrewing.com/wp-content/uploads/2023/12/Third-Wheel-Brewing-.jpg
END:VEVENT
BEGIN:VEVENT
DTSTART;TZID=America/Chicago:20260712T130000
DTEND;TZID=America/Chicago:20260712T170000
DTSTAMP:20260423T024443
CREATED:20260328T023318Z
LAST-MODIFIED:20260329T002254Z
UID:990001648-1783861200-1783875600@thirdwheelbrewing.com
SUMMARY:Puzzles & Guzzles
DESCRIPTION:Puzzle Lovers and Beer Enthusiasts Unite! Looking for great fun\, friends\, and a challenge? Join us for Puzzles & Guzzles – where your brain gets a workout and your taste buds are in for a treat! What to expect: Gather your team of 2-6 people Register at the bar the day of the event.  $10 per person\, includes a flight of Third Wheel Beer for each adult.  Complete a 300-piece jigsaw puzzle and your beer flights in the fastest time! Tons of laughter\, great company\, and a little healthy competition! Start any time between 1pm – 5pm.
URL:https://thirdwheelbrewing.com/events/puzzles-guzzles-2-2-2/2026-07-12/
LOCATION:Third Wheel Brewing\, 4008 N. Service Rd\, St. Peters\, MO\, 63376\, United States
CATEGORIES:Event
ATTACH;FMTTYPE=image/webp:https://thirdwheelbrewing.com/wp-content/uploads/2025/11/Puzzles-no-dates.webp
END:VEVENT
BEGIN:VEVENT
DTSTART;TZID=America/Chicago:20260716T190000
DTEND;TZID=America/Chicago:20260716T210000
DTSTAMP:20260423T024443
CREATED:20251114T023443Z
LAST-MODIFIED:20251114T023444Z
UID:990000936-1784228400-1784235600@thirdwheelbrewing.com
SUMMARY:Beer Bingo Thursday
DESCRIPTION:Beer bingo is fun and free to play with a food or beverage purchase!  The game starts at 7pm every Thursday.
URL:https://thirdwheelbrewing.com/events/beer-bingo-tonight-2/2026-07-16/
LOCATION:Third Wheel Brewing\, 4008 N. Service Rd\, St. Peters\, MO\, 63376\, United States
CATEGORIES:Bingo
ATTACH;FMTTYPE=image/jpeg:https://thirdwheelbrewing.com/wp-content/uploads/2024/01/23-10-26-third-wheel-48073.jpg
END:VEVENT
BEGIN:VEVENT
DTSTART;TZID=America/Chicago:20260717T150000
DTEND;TZID=America/Chicago:20260717T190000
DTSTAMP:20260423T024443
CREATED:20250608T213953Z
LAST-MODIFIED:20250610T145059Z
UID:990001198-1784300400-1784314800@thirdwheelbrewing.com
SUMMARY:Happy Hour every Friday
DESCRIPTION:Enjoy $2 off all of our core beers from 3-7 every Friday
URL:https://thirdwheelbrewing.com/events/happy-hour-every-friday/2026-07-17/
LOCATION:Third Wheel Brewing\, 4008 N. Service Rd\, St. Peters\, MO\, 63376\, United States
ATTACH;FMTTYPE=image/jpeg:https://thirdwheelbrewing.com/wp-content/uploads/2023/12/Third-Wheel-Brewing-.jpg
END:VEVENT
BEGIN:VEVENT
DTSTART;TZID=America/Chicago:20260721T190000
DTEND;TZID=America/Chicago:20260721T210000
DTSTAMP:20260423T024443
CREATED:20240306T211847Z
LAST-MODIFIED:20260221T211351Z
UID:990000616-1784660400-1784667600@thirdwheelbrewing.com
SUMMARY:Garage Brewer’s Society
DESCRIPTION:🏠🍻 Calling all homebrew enthusiasts! 🌟 Join us for Garage Brewer’s Society from 7-9 pm and connect with fellow homebrewers! Don’t miss out on this opportunity to share your passion for brewing! #Homebrewing #GarageBrewersSociety
URL:https://thirdwheelbrewing.com/events/garage-brewers-society/2026-07-21/
LOCATION:Third Wheel Brewing\, 4008 N. Service Rd\, St. Peters\, MO\, 63376\, United States
CATEGORIES:Event
ATTACH;FMTTYPE=image/jpeg:https://thirdwheelbrewing.com/wp-content/uploads/2024/03/Garagebrewers.jpg
END:VEVENT
BEGIN:VEVENT
DTSTART;TZID=America/Chicago:20260723T190000
DTEND;TZID=America/Chicago:20260723T210000
DTSTAMP:20260423T024443
CREATED:20251114T023443Z
LAST-MODIFIED:20251114T023444Z
UID:990000937-1784833200-1784840400@thirdwheelbrewing.com
SUMMARY:Beer Bingo Thursday
DESCRIPTION:Beer bingo is fun and free to play with a food or beverage purchase!  The game starts at 7pm every Thursday.
URL:https://thirdwheelbrewing.com/events/beer-bingo-tonight-2/2026-07-23/
LOCATION:Third Wheel Brewing\, 4008 N. Service Rd\, St. Peters\, MO\, 63376\, United States
CATEGORIES:Bingo
ATTACH;FMTTYPE=image/jpeg:https://thirdwheelbrewing.com/wp-content/uploads/2024/01/23-10-26-third-wheel-48073.jpg
END:VEVENT
BEGIN:VEVENT
DTSTART;TZID=America/Chicago:20260724T150000
DTEND;TZID=America/Chicago:20260724T190000
DTSTAMP:20260423T024443
CREATED:20250608T213953Z
LAST-MODIFIED:20250610T145059Z
UID:990001199-1784905200-1784919600@thirdwheelbrewing.com
SUMMARY:Happy Hour every Friday
DESCRIPTION:Enjoy $2 off all of our core beers from 3-7 every Friday
URL:https://thirdwheelbrewing.com/events/happy-hour-every-friday/2026-07-24/
LOCATION:Third Wheel Brewing\, 4008 N. Service Rd\, St. Peters\, MO\, 63376\, United States
ATTACH;FMTTYPE=image/jpeg:https://thirdwheelbrewing.com/wp-content/uploads/2023/12/Third-Wheel-Brewing-.jpg
END:VEVENT
BEGIN:VEVENT
DTSTART;TZID=America/Chicago:20260726T130000
DTEND;TZID=America/Chicago:20260726T170000
DTSTAMP:20260423T024443
CREATED:20260328T023318Z
LAST-MODIFIED:20260329T002254Z
UID:990001649-1785070800-1785085200@thirdwheelbrewing.com
SUMMARY:Puzzles & Guzzles
DESCRIPTION:Puzzle Lovers and Beer Enthusiasts Unite! Looking for great fun\, friends\, and a challenge? Join us for Puzzles & Guzzles – where your brain gets a workout and your taste buds are in for a treat! What to expect: Gather your team of 2-6 people Register at the bar the day of the event.  $10 per person\, includes a flight of Third Wheel Beer for each adult.  Complete a 300-piece jigsaw puzzle and your beer flights in the fastest time! Tons of laughter\, great company\, and a little healthy competition! Start any time between 1pm – 5pm.
URL:https://thirdwheelbrewing.com/events/puzzles-guzzles-2-2-2/2026-07-26/
LOCATION:Third Wheel Brewing\, 4008 N. Service Rd\, St. Peters\, MO\, 63376\, United States
CATEGORIES:Event
ATTACH;FMTTYPE=image/webp:https://thirdwheelbrewing.com/wp-content/uploads/2025/11/Puzzles-no-dates.webp
END:VEVENT
BEGIN:VEVENT
DTSTART;TZID=America/Chicago:20260730T190000
DTEND;TZID=America/Chicago:20260730T210000
DTSTAMP:20260423T024443
CREATED:20251114T023443Z
LAST-MODIFIED:20251114T023444Z
UID:990000938-1785438000-1785445200@thirdwheelbrewing.com
SUMMARY:Beer Bingo Thursday
DESCRIPTION:Beer bingo is fun and free to play with a food or beverage purchase!  The game starts at 7pm every Thursday.
URL:https://thirdwheelbrewing.com/events/beer-bingo-tonight-2/2026-07-30/
LOCATION:Third Wheel Brewing\, 4008 N. Service Rd\, St. Peters\, MO\, 63376\, United States
CATEGORIES:Bingo
ATTACH;FMTTYPE=image/jpeg:https://thirdwheelbrewing.com/wp-content/uploads/2024/01/23-10-26-third-wheel-48073.jpg
END:VEVENT
BEGIN:VEVENT
DTSTART;TZID=America/Chicago:20260731T150000
DTEND;TZID=America/Chicago:20260731T190000
DTSTAMP:20260423T024443
CREATED:20250608T213953Z
LAST-MODIFIED:20250610T145059Z
UID:990001200-1785510000-1785524400@thirdwheelbrewing.com
SUMMARY:Happy Hour every Friday
DESCRIPTION:Enjoy $2 off all of our core beers from 3-7 every Friday
URL:https://thirdwheelbrewing.com/events/happy-hour-every-friday/2026-07-31/
LOCATION:Third Wheel Brewing\, 4008 N. Service Rd\, St. Peters\, MO\, 63376\, United States
ATTACH;FMTTYPE=image/jpeg:https://thirdwheelbrewing.com/wp-content/uploads/2023/12/Third-Wheel-Brewing-.jpg
END:VEVENT
BEGIN:VEVENT
DTSTART;TZID=America/Chicago:20260806T190000
DTEND;TZID=America/Chicago:20260806T210000
DTSTAMP:20260423T024443
CREATED:20251114T023443Z
LAST-MODIFIED:20251114T023444Z
UID:990000939-1786042800-1786050000@thirdwheelbrewing.com
SUMMARY:Beer Bingo Thursday
DESCRIPTION:Beer bingo is fun and free to play with a food or beverage purchase!  The game starts at 7pm every Thursday.
URL:https://thirdwheelbrewing.com/events/beer-bingo-tonight-2/2026-08-06/
LOCATION:Third Wheel Brewing\, 4008 N. Service Rd\, St. Peters\, MO\, 63376\, United States
CATEGORIES:Bingo
ATTACH;FMTTYPE=image/jpeg:https://thirdwheelbrewing.com/wp-content/uploads/2024/01/23-10-26-third-wheel-48073.jpg
END:VEVENT
BEGIN:VEVENT
DTSTART;TZID=America/Chicago:20260807T150000
DTEND;TZID=America/Chicago:20260807T190000
DTSTAMP:20260423T024443
CREATED:20250608T213953Z
LAST-MODIFIED:20250610T145059Z
UID:990001201-1786114800-1786129200@thirdwheelbrewing.com
SUMMARY:Happy Hour every Friday
DESCRIPTION:Enjoy $2 off all of our core beers from 3-7 every Friday
URL:https://thirdwheelbrewing.com/events/happy-hour-every-friday/2026-08-07/
LOCATION:Third Wheel Brewing\, 4008 N. Service Rd\, St. Peters\, MO\, 63376\, United States
ATTACH;FMTTYPE=image/jpeg:https://thirdwheelbrewing.com/wp-content/uploads/2023/12/Third-Wheel-Brewing-.jpg
END:VEVENT
BEGIN:VEVENT
DTSTART;TZID=America/Chicago:20260809T130000
DTEND;TZID=America/Chicago:20260809T170000
DTSTAMP:20260423T024443
CREATED:20260328T023318Z
LAST-MODIFIED:20260329T002254Z
UID:990001650-1786280400-1786294800@thirdwheelbrewing.com
SUMMARY:Puzzles & Guzzles
DESCRIPTION:Puzzle Lovers and Beer Enthusiasts Unite! Looking for great fun\, friends\, and a challenge? Join us for Puzzles & Guzzles – where your brain gets a workout and your taste buds are in for a treat! What to expect: Gather your team of 2-6 people Register at the bar the day of the event.  $10 per person\, includes a flight of Third Wheel Beer for each adult.  Complete a 300-piece jigsaw puzzle and your beer flights in the fastest time! Tons of laughter\, great company\, and a little healthy competition! Start any time between 1pm – 5pm.
URL:https://thirdwheelbrewing.com/events/puzzles-guzzles-2-2-2/2026-08-09/
LOCATION:Third Wheel Brewing\, 4008 N. Service Rd\, St. Peters\, MO\, 63376\, United States
CATEGORIES:Event
ATTACH;FMTTYPE=image/webp:https://thirdwheelbrewing.com/wp-content/uploads/2025/11/Puzzles-no-dates.webp
END:VEVENT
BEGIN:VEVENT
DTSTART;TZID=America/Chicago:20260813T190000
DTEND;TZID=America/Chicago:20260813T210000
DTSTAMP:20260423T024443
CREATED:20251114T023443Z
LAST-MODIFIED:20251114T023444Z
UID:990000940-1786647600-1786654800@thirdwheelbrewing.com
SUMMARY:Beer Bingo Thursday
DESCRIPTION:Beer bingo is fun and free to play with a food or beverage purchase!  The game starts at 7pm every Thursday.
URL:https://thirdwheelbrewing.com/events/beer-bingo-tonight-2/2026-08-13/
LOCATION:Third Wheel Brewing\, 4008 N. Service Rd\, St. Peters\, MO\, 63376\, United States
CATEGORIES:Bingo
ATTACH;FMTTYPE=image/jpeg:https://thirdwheelbrewing.com/wp-content/uploads/2024/01/23-10-26-third-wheel-48073.jpg
END:VEVENT
BEGIN:VEVENT
DTSTART;TZID=America/Chicago:20260814T150000
DTEND;TZID=America/Chicago:20260814T190000
DTSTAMP:20260423T024443
CREATED:20250608T213953Z
LAST-MODIFIED:20250610T145059Z
UID:990001202-1786719600-1786734000@thirdwheelbrewing.com
SUMMARY:Happy Hour every Friday
DESCRIPTION:Enjoy $2 off all of our core beers from 3-7 every Friday
URL:https://thirdwheelbrewing.com/events/happy-hour-every-friday/2026-08-14/
LOCATION:Third Wheel Brewing\, 4008 N. Service Rd\, St. Peters\, MO\, 63376\, United States
ATTACH;FMTTYPE=image/jpeg:https://thirdwheelbrewing.com/wp-content/uploads/2023/12/Third-Wheel-Brewing-.jpg
END:VEVENT
BEGIN:VEVENT
DTSTART;TZID=America/Chicago:20260818T190000
DTEND;TZID=America/Chicago:20260818T210000
DTSTAMP:20260423T024443
CREATED:20240306T211847Z
LAST-MODIFIED:20260221T211351Z
UID:990000617-1787079600-1787086800@thirdwheelbrewing.com
SUMMARY:Garage Brewer’s Society
DESCRIPTION:🏠🍻 Calling all homebrew enthusiasts! 🌟 Join us for Garage Brewer’s Society from 7-9 pm and connect with fellow homebrewers! Don’t miss out on this opportunity to share your passion for brewing! #Homebrewing #GarageBrewersSociety
URL:https://thirdwheelbrewing.com/events/garage-brewers-society/2026-08-18/
LOCATION:Third Wheel Brewing\, 4008 N. Service Rd\, St. Peters\, MO\, 63376\, United States
CATEGORIES:Event
ATTACH;FMTTYPE=image/jpeg:https://thirdwheelbrewing.com/wp-content/uploads/2024/03/Garagebrewers.jpg
END:VEVENT
BEGIN:VEVENT
DTSTART;TZID=America/Chicago:20260820T190000
DTEND;TZID=America/Chicago:20260820T210000
DTSTAMP:20260423T024443
CREATED:20251114T023443Z
LAST-MODIFIED:20251114T023444Z
UID:990000941-1787252400-1787259600@thirdwheelbrewing.com
SUMMARY:Beer Bingo Thursday
DESCRIPTION:Beer bingo is fun and free to play with a food or beverage purchase!  The game starts at 7pm every Thursday.
URL:https://thirdwheelbrewing.com/events/beer-bingo-tonight-2/2026-08-20/
LOCATION:Third Wheel Brewing\, 4008 N. Service Rd\, St. Peters\, MO\, 63376\, United States
CATEGORIES:Bingo
ATTACH;FMTTYPE=image/jpeg:https://thirdwheelbrewing.com/wp-content/uploads/2024/01/23-10-26-third-wheel-48073.jpg
END:VEVENT
BEGIN:VEVENT
DTSTART;TZID=America/Chicago:20260821T150000
DTEND;TZID=America/Chicago:20260821T190000
DTSTAMP:20260423T024443
CREATED:20250608T213953Z
LAST-MODIFIED:20250610T145059Z
UID:990001203-1787324400-1787338800@thirdwheelbrewing.com
SUMMARY:Happy Hour every Friday
DESCRIPTION:Enjoy $2 off all of our core beers from 3-7 every Friday
URL:https://thirdwheelbrewing.com/events/happy-hour-every-friday/2026-08-21/
LOCATION:Third Wheel Brewing\, 4008 N. Service Rd\, St. Peters\, MO\, 63376\, United States
ATTACH;FMTTYPE=image/jpeg:https://thirdwheelbrewing.com/wp-content/uploads/2023/12/Third-Wheel-Brewing-.jpg
END:VEVENT
BEGIN:VEVENT
DTSTART;TZID=America/Chicago:20260823T130000
DTEND;TZID=America/Chicago:20260823T170000
DTSTAMP:20260423T024443
CREATED:20260328T023318Z
LAST-MODIFIED:20260329T002254Z
UID:990001750-1787490000-1787504400@thirdwheelbrewing.com
SUMMARY:Puzzles & Guzzles
DESCRIPTION:Puzzle Lovers and Beer Enthusiasts Unite! Looking for great fun\, friends\, and a challenge? Join us for Puzzles & Guzzles – where your brain gets a workout and your taste buds are in for a treat! What to expect: Gather your team of 2-6 people Register at the bar the day of the event.  $10 per person\, includes a flight of Third Wheel Beer for each adult.  Complete a 300-piece jigsaw puzzle and your beer flights in the fastest time! Tons of laughter\, great company\, and a little healthy competition! Start any time between 1pm – 5pm.
URL:https://thirdwheelbrewing.com/events/puzzles-guzzles-2-2-2/2026-08-23/
LOCATION:Third Wheel Brewing\, 4008 N. Service Rd\, St. Peters\, MO\, 63376\, United States
CATEGORIES:Event
ATTACH;FMTTYPE=image/webp:https://thirdwheelbrewing.com/wp-content/uploads/2025/11/Puzzles-no-dates.webp
END:VEVENT
END:VCALENDAR