BEGIN:VCALENDAR
VERSION:2.0
PRODID:-//Third Wheel Brewing - ECPv6.15.20//NONSGML v1.0//EN
CALSCALE:GREGORIAN
METHOD:PUBLISH
X-WR-CALNAME:Third Wheel Brewing
X-ORIGINAL-URL:https://thirdwheelbrewing.com
X-WR-CALDESC:Events for Third Wheel Brewing
REFRESH-INTERVAL;VALUE=DURATION:PT1H
X-Robots-Tag:noindex
X-PUBLISHED-TTL:PT1H
BEGIN:VTIMEZONE
TZID:America/Chicago
BEGIN:DAYLIGHT
TZOFFSETFROM:-0600
TZOFFSETTO:-0500
TZNAME:CDT
DTSTART:20280312T080000
END:DAYLIGHT
BEGIN:STANDARD
TZOFFSETFROM:-0500
TZOFFSETTO:-0600
TZNAME:CST
DTSTART:20281105T070000
END:STANDARD
BEGIN:DAYLIGHT
TZOFFSETFROM:-0600
TZOFFSETTO:-0500
TZNAME:CDT
DTSTART:20290311T080000
END:DAYLIGHT
BEGIN:STANDARD
TZOFFSETFROM:-0500
TZOFFSETTO:-0600
TZNAME:CST
DTSTART:20291104T070000
END:STANDARD
BEGIN:DAYLIGHT
TZOFFSETFROM:-0600
TZOFFSETTO:-0500
TZNAME:CDT
DTSTART:20300310T080000
END:DAYLIGHT
BEGIN:STANDARD
TZOFFSETFROM:-0500
TZOFFSETTO:-0600
TZNAME:CST
DTSTART:20301103T070000
END:STANDARD
END:VTIMEZONE
BEGIN:VEVENT
DTSTART;TZID=America/Chicago:20290531T190000
DTEND;TZID=America/Chicago:20290531T210000
DTSTAMP:20260425T071559
CREATED:20251114T023443Z
LAST-MODIFIED:20251114T023444Z
UID:990001086-1874948400-1874955600@thirdwheelbrewing.com
SUMMARY:Beer Bingo Thursday
DESCRIPTION:Beer bingo is fun and free to play with a food or beverage purchase!  The game starts at 7pm every Thursday.
URL:https://thirdwheelbrewing.com/events/beer-bingo-tonight-2/2029-05-31/
LOCATION:Third Wheel Brewing\, 4008 N. Service Rd\, St. Peters\, MO\, 63376\, United States
CATEGORIES:Bingo
ATTACH;FMTTYPE=image/jpeg:https://thirdwheelbrewing.com/wp-content/uploads/2024/01/23-10-26-third-wheel-48073.jpg
END:VEVENT
BEGIN:VEVENT
DTSTART;TZID=America/Chicago:20290601T150000
DTEND;TZID=America/Chicago:20290601T190000
DTSTAMP:20260425T071559
CREATED:20250608T213953Z
LAST-MODIFIED:20250610T145059Z
UID:990001348-1875020400-1875034800@thirdwheelbrewing.com
SUMMARY:Happy Hour every Friday
DESCRIPTION:Enjoy $2 off all of our core beers from 3-7 every Friday
URL:https://thirdwheelbrewing.com/events/happy-hour-every-friday/2029-06-01/
LOCATION:Third Wheel Brewing\, 4008 N. Service Rd\, St. Peters\, MO\, 63376\, United States
ATTACH;FMTTYPE=image/jpeg:https://thirdwheelbrewing.com/wp-content/uploads/2023/12/Third-Wheel-Brewing-.jpg
END:VEVENT
BEGIN:VEVENT
DTSTART;TZID=America/Chicago:20290607T190000
DTEND;TZID=America/Chicago:20290607T210000
DTSTAMP:20260425T071559
CREATED:20251114T023443Z
LAST-MODIFIED:20251114T023444Z
UID:990001087-1875553200-1875560400@thirdwheelbrewing.com
SUMMARY:Beer Bingo Thursday
DESCRIPTION:Beer bingo is fun and free to play with a food or beverage purchase!  The game starts at 7pm every Thursday.
URL:https://thirdwheelbrewing.com/events/beer-bingo-tonight-2/2029-06-07/
LOCATION:Third Wheel Brewing\, 4008 N. Service Rd\, St. Peters\, MO\, 63376\, United States
CATEGORIES:Bingo
ATTACH;FMTTYPE=image/jpeg:https://thirdwheelbrewing.com/wp-content/uploads/2024/01/23-10-26-third-wheel-48073.jpg
END:VEVENT
BEGIN:VEVENT
DTSTART;TZID=America/Chicago:20290608T150000
DTEND;TZID=America/Chicago:20290608T190000
DTSTAMP:20260425T071559
CREATED:20250608T213953Z
LAST-MODIFIED:20250610T145059Z
UID:990001349-1875625200-1875639600@thirdwheelbrewing.com
SUMMARY:Happy Hour every Friday
DESCRIPTION:Enjoy $2 off all of our core beers from 3-7 every Friday
URL:https://thirdwheelbrewing.com/events/happy-hour-every-friday/2029-06-08/
LOCATION:Third Wheel Brewing\, 4008 N. Service Rd\, St. Peters\, MO\, 63376\, United States
ATTACH;FMTTYPE=image/jpeg:https://thirdwheelbrewing.com/wp-content/uploads/2023/12/Third-Wheel-Brewing-.jpg
END:VEVENT
BEGIN:VEVENT
DTSTART;TZID=America/Chicago:20290614T190000
DTEND;TZID=America/Chicago:20290614T210000
DTSTAMP:20260425T071559
CREATED:20251114T023443Z
LAST-MODIFIED:20251114T023444Z
UID:990001088-1876158000-1876165200@thirdwheelbrewing.com
SUMMARY:Beer Bingo Thursday
DESCRIPTION:Beer bingo is fun and free to play with a food or beverage purchase!  The game starts at 7pm every Thursday.
URL:https://thirdwheelbrewing.com/events/beer-bingo-tonight-2/2029-06-14/
LOCATION:Third Wheel Brewing\, 4008 N. Service Rd\, St. Peters\, MO\, 63376\, United States
CATEGORIES:Bingo
ATTACH;FMTTYPE=image/jpeg:https://thirdwheelbrewing.com/wp-content/uploads/2024/01/23-10-26-third-wheel-48073.jpg
END:VEVENT
BEGIN:VEVENT
DTSTART;TZID=America/Chicago:20290615T150000
DTEND;TZID=America/Chicago:20290615T190000
DTSTAMP:20260425T071559
CREATED:20250608T213953Z
LAST-MODIFIED:20250610T145059Z
UID:990001350-1876230000-1876244400@thirdwheelbrewing.com
SUMMARY:Happy Hour every Friday
DESCRIPTION:Enjoy $2 off all of our core beers from 3-7 every Friday
URL:https://thirdwheelbrewing.com/events/happy-hour-every-friday/2029-06-15/
LOCATION:Third Wheel Brewing\, 4008 N. Service Rd\, St. Peters\, MO\, 63376\, United States
ATTACH;FMTTYPE=image/jpeg:https://thirdwheelbrewing.com/wp-content/uploads/2023/12/Third-Wheel-Brewing-.jpg
END:VEVENT
BEGIN:VEVENT
DTSTART;TZID=America/Chicago:20290619T190000
DTEND;TZID=America/Chicago:20290619T210000
DTSTAMP:20260425T071559
CREATED:20240306T211847Z
LAST-MODIFIED:20260221T211351Z
UID:990000821-1876590000-1876597200@thirdwheelbrewing.com
SUMMARY:Garage Brewer’s Society
DESCRIPTION:🏠🍻 Calling all homebrew enthusiasts! 🌟 Join us for Garage Brewer’s Society from 7-9 pm and connect with fellow homebrewers! Don’t miss out on this opportunity to share your passion for brewing! #Homebrewing #GarageBrewersSociety
URL:https://thirdwheelbrewing.com/events/garage-brewers-society/2029-06-19/
LOCATION:Third Wheel Brewing\, 4008 N. Service Rd\, St. Peters\, MO\, 63376\, United States
CATEGORIES:Event
ATTACH;FMTTYPE=image/jpeg:https://thirdwheelbrewing.com/wp-content/uploads/2024/03/Garagebrewers.jpg
END:VEVENT
BEGIN:VEVENT
DTSTART;TZID=America/Chicago:20290621T190000
DTEND;TZID=America/Chicago:20290621T210000
DTSTAMP:20260425T071559
CREATED:20251114T023443Z
LAST-MODIFIED:20251114T023444Z
UID:990001089-1876762800-1876770000@thirdwheelbrewing.com
SUMMARY:Beer Bingo Thursday
DESCRIPTION:Beer bingo is fun and free to play with a food or beverage purchase!  The game starts at 7pm every Thursday.
URL:https://thirdwheelbrewing.com/events/beer-bingo-tonight-2/2029-06-21/
LOCATION:Third Wheel Brewing\, 4008 N. Service Rd\, St. Peters\, MO\, 63376\, United States
CATEGORIES:Bingo
ATTACH;FMTTYPE=image/jpeg:https://thirdwheelbrewing.com/wp-content/uploads/2024/01/23-10-26-third-wheel-48073.jpg
END:VEVENT
BEGIN:VEVENT
DTSTART;TZID=America/Chicago:20290622T150000
DTEND;TZID=America/Chicago:20290622T190000
DTSTAMP:20260425T071559
CREATED:20250608T213953Z
LAST-MODIFIED:20250610T145059Z
UID:990001351-1876834800-1876849200@thirdwheelbrewing.com
SUMMARY:Happy Hour every Friday
DESCRIPTION:Enjoy $2 off all of our core beers from 3-7 every Friday
URL:https://thirdwheelbrewing.com/events/happy-hour-every-friday/2029-06-22/
LOCATION:Third Wheel Brewing\, 4008 N. Service Rd\, St. Peters\, MO\, 63376\, United States
ATTACH;FMTTYPE=image/jpeg:https://thirdwheelbrewing.com/wp-content/uploads/2023/12/Third-Wheel-Brewing-.jpg
END:VEVENT
BEGIN:VEVENT
DTSTART;TZID=America/Chicago:20290628T190000
DTEND;TZID=America/Chicago:20290628T210000
DTSTAMP:20260425T071559
CREATED:20251114T023443Z
LAST-MODIFIED:20251114T023444Z
UID:990001090-1877367600-1877374800@thirdwheelbrewing.com
SUMMARY:Beer Bingo Thursday
DESCRIPTION:Beer bingo is fun and free to play with a food or beverage purchase!  The game starts at 7pm every Thursday.
URL:https://thirdwheelbrewing.com/events/beer-bingo-tonight-2/2029-06-28/
LOCATION:Third Wheel Brewing\, 4008 N. Service Rd\, St. Peters\, MO\, 63376\, United States
CATEGORIES:Bingo
ATTACH;FMTTYPE=image/jpeg:https://thirdwheelbrewing.com/wp-content/uploads/2024/01/23-10-26-third-wheel-48073.jpg
END:VEVENT
BEGIN:VEVENT
DTSTART;TZID=America/Chicago:20290629T150000
DTEND;TZID=America/Chicago:20290629T190000
DTSTAMP:20260425T071559
CREATED:20250608T213953Z
LAST-MODIFIED:20250610T145059Z
UID:990001352-1877439600-1877454000@thirdwheelbrewing.com
SUMMARY:Happy Hour every Friday
DESCRIPTION:Enjoy $2 off all of our core beers from 3-7 every Friday
URL:https://thirdwheelbrewing.com/events/happy-hour-every-friday/2029-06-29/
LOCATION:Third Wheel Brewing\, 4008 N. Service Rd\, St. Peters\, MO\, 63376\, United States
ATTACH;FMTTYPE=image/jpeg:https://thirdwheelbrewing.com/wp-content/uploads/2023/12/Third-Wheel-Brewing-.jpg
END:VEVENT
BEGIN:VEVENT
DTSTART;TZID=America/Chicago:20290705T190000
DTEND;TZID=America/Chicago:20290705T210000
DTSTAMP:20260425T071559
CREATED:20251114T023443Z
LAST-MODIFIED:20251114T023444Z
UID:990001091-1877972400-1877979600@thirdwheelbrewing.com
SUMMARY:Beer Bingo Thursday
DESCRIPTION:Beer bingo is fun and free to play with a food or beverage purchase!  The game starts at 7pm every Thursday.
URL:https://thirdwheelbrewing.com/events/beer-bingo-tonight-2/2029-07-05/
LOCATION:Third Wheel Brewing\, 4008 N. Service Rd\, St. Peters\, MO\, 63376\, United States
CATEGORIES:Bingo
ATTACH;FMTTYPE=image/jpeg:https://thirdwheelbrewing.com/wp-content/uploads/2024/01/23-10-26-third-wheel-48073.jpg
END:VEVENT
BEGIN:VEVENT
DTSTART;TZID=America/Chicago:20290706T150000
DTEND;TZID=America/Chicago:20290706T190000
DTSTAMP:20260425T071559
CREATED:20250608T213953Z
LAST-MODIFIED:20250610T145059Z
UID:990001353-1878044400-1878058800@thirdwheelbrewing.com
SUMMARY:Happy Hour every Friday
DESCRIPTION:Enjoy $2 off all of our core beers from 3-7 every Friday
URL:https://thirdwheelbrewing.com/events/happy-hour-every-friday/2029-07-06/
LOCATION:Third Wheel Brewing\, 4008 N. Service Rd\, St. Peters\, MO\, 63376\, United States
ATTACH;FMTTYPE=image/jpeg:https://thirdwheelbrewing.com/wp-content/uploads/2023/12/Third-Wheel-Brewing-.jpg
END:VEVENT
BEGIN:VEVENT
DTSTART;TZID=America/Chicago:20290712T190000
DTEND;TZID=America/Chicago:20290712T210000
DTSTAMP:20260425T071559
CREATED:20251114T023443Z
LAST-MODIFIED:20251114T023444Z
UID:990001092-1878577200-1878584400@thirdwheelbrewing.com
SUMMARY:Beer Bingo Thursday
DESCRIPTION:Beer bingo is fun and free to play with a food or beverage purchase!  The game starts at 7pm every Thursday.
URL:https://thirdwheelbrewing.com/events/beer-bingo-tonight-2/2029-07-12/
LOCATION:Third Wheel Brewing\, 4008 N. Service Rd\, St. Peters\, MO\, 63376\, United States
CATEGORIES:Bingo
ATTACH;FMTTYPE=image/jpeg:https://thirdwheelbrewing.com/wp-content/uploads/2024/01/23-10-26-third-wheel-48073.jpg
END:VEVENT
BEGIN:VEVENT
DTSTART;TZID=America/Chicago:20290713T150000
DTEND;TZID=America/Chicago:20290713T190000
DTSTAMP:20260425T071559
CREATED:20250608T213953Z
LAST-MODIFIED:20250610T145059Z
UID:990001354-1878649200-1878663600@thirdwheelbrewing.com
SUMMARY:Happy Hour every Friday
DESCRIPTION:Enjoy $2 off all of our core beers from 3-7 every Friday
URL:https://thirdwheelbrewing.com/events/happy-hour-every-friday/2029-07-13/
LOCATION:Third Wheel Brewing\, 4008 N. Service Rd\, St. Peters\, MO\, 63376\, United States
ATTACH;FMTTYPE=image/jpeg:https://thirdwheelbrewing.com/wp-content/uploads/2023/12/Third-Wheel-Brewing-.jpg
END:VEVENT
BEGIN:VEVENT
DTSTART;TZID=America/Chicago:20290717T190000
DTEND;TZID=America/Chicago:20290717T210000
DTSTAMP:20260425T071559
CREATED:20240306T211847Z
LAST-MODIFIED:20260221T211351Z
UID:990000822-1879009200-1879016400@thirdwheelbrewing.com
SUMMARY:Garage Brewer’s Society
DESCRIPTION:🏠🍻 Calling all homebrew enthusiasts! 🌟 Join us for Garage Brewer’s Society from 7-9 pm and connect with fellow homebrewers! Don’t miss out on this opportunity to share your passion for brewing! #Homebrewing #GarageBrewersSociety
URL:https://thirdwheelbrewing.com/events/garage-brewers-society/2029-07-17/
LOCATION:Third Wheel Brewing\, 4008 N. Service Rd\, St. Peters\, MO\, 63376\, United States
CATEGORIES:Event
ATTACH;FMTTYPE=image/jpeg:https://thirdwheelbrewing.com/wp-content/uploads/2024/03/Garagebrewers.jpg
END:VEVENT
BEGIN:VEVENT
DTSTART;TZID=America/Chicago:20290719T190000
DTEND;TZID=America/Chicago:20290719T210000
DTSTAMP:20260425T071559
CREATED:20251114T023443Z
LAST-MODIFIED:20251114T023444Z
UID:990001093-1879182000-1879189200@thirdwheelbrewing.com
SUMMARY:Beer Bingo Thursday
DESCRIPTION:Beer bingo is fun and free to play with a food or beverage purchase!  The game starts at 7pm every Thursday.
URL:https://thirdwheelbrewing.com/events/beer-bingo-tonight-2/2029-07-19/
LOCATION:Third Wheel Brewing\, 4008 N. Service Rd\, St. Peters\, MO\, 63376\, United States
CATEGORIES:Bingo
ATTACH;FMTTYPE=image/jpeg:https://thirdwheelbrewing.com/wp-content/uploads/2024/01/23-10-26-third-wheel-48073.jpg
END:VEVENT
BEGIN:VEVENT
DTSTART;TZID=America/Chicago:20290720T150000
DTEND;TZID=America/Chicago:20290720T190000
DTSTAMP:20260425T071559
CREATED:20250608T213953Z
LAST-MODIFIED:20250610T145059Z
UID:990001355-1879254000-1879268400@thirdwheelbrewing.com
SUMMARY:Happy Hour every Friday
DESCRIPTION:Enjoy $2 off all of our core beers from 3-7 every Friday
URL:https://thirdwheelbrewing.com/events/happy-hour-every-friday/2029-07-20/
LOCATION:Third Wheel Brewing\, 4008 N. Service Rd\, St. Peters\, MO\, 63376\, United States
ATTACH;FMTTYPE=image/jpeg:https://thirdwheelbrewing.com/wp-content/uploads/2023/12/Third-Wheel-Brewing-.jpg
END:VEVENT
BEGIN:VEVENT
DTSTART;TZID=America/Chicago:20290726T190000
DTEND;TZID=America/Chicago:20290726T210000
DTSTAMP:20260425T071559
CREATED:20251114T023443Z
LAST-MODIFIED:20251114T023444Z
UID:990001094-1879786800-1879794000@thirdwheelbrewing.com
SUMMARY:Beer Bingo Thursday
DESCRIPTION:Beer bingo is fun and free to play with a food or beverage purchase!  The game starts at 7pm every Thursday.
URL:https://thirdwheelbrewing.com/events/beer-bingo-tonight-2/2029-07-26/
LOCATION:Third Wheel Brewing\, 4008 N. Service Rd\, St. Peters\, MO\, 63376\, United States
CATEGORIES:Bingo
ATTACH;FMTTYPE=image/jpeg:https://thirdwheelbrewing.com/wp-content/uploads/2024/01/23-10-26-third-wheel-48073.jpg
END:VEVENT
BEGIN:VEVENT
DTSTART;TZID=America/Chicago:20290727T150000
DTEND;TZID=America/Chicago:20290727T190000
DTSTAMP:20260425T071559
CREATED:20250608T213953Z
LAST-MODIFIED:20250610T145059Z
UID:990001356-1879858800-1879873200@thirdwheelbrewing.com
SUMMARY:Happy Hour every Friday
DESCRIPTION:Enjoy $2 off all of our core beers from 3-7 every Friday
URL:https://thirdwheelbrewing.com/events/happy-hour-every-friday/2029-07-27/
LOCATION:Third Wheel Brewing\, 4008 N. Service Rd\, St. Peters\, MO\, 63376\, United States
ATTACH;FMTTYPE=image/jpeg:https://thirdwheelbrewing.com/wp-content/uploads/2023/12/Third-Wheel-Brewing-.jpg
END:VEVENT
BEGIN:VEVENT
DTSTART;TZID=America/Chicago:20290802T190000
DTEND;TZID=America/Chicago:20290802T210000
DTSTAMP:20260425T071559
CREATED:20251114T023443Z
LAST-MODIFIED:20251114T023444Z
UID:990001095-1880391600-1880398800@thirdwheelbrewing.com
SUMMARY:Beer Bingo Thursday
DESCRIPTION:Beer bingo is fun and free to play with a food or beverage purchase!  The game starts at 7pm every Thursday.
URL:https://thirdwheelbrewing.com/events/beer-bingo-tonight-2/2029-08-02/
LOCATION:Third Wheel Brewing\, 4008 N. Service Rd\, St. Peters\, MO\, 63376\, United States
CATEGORIES:Bingo
ATTACH;FMTTYPE=image/jpeg:https://thirdwheelbrewing.com/wp-content/uploads/2024/01/23-10-26-third-wheel-48073.jpg
END:VEVENT
BEGIN:VEVENT
DTSTART;TZID=America/Chicago:20290803T150000
DTEND;TZID=America/Chicago:20290803T190000
DTSTAMP:20260425T071559
CREATED:20250608T213953Z
LAST-MODIFIED:20250610T145059Z
UID:990001357-1880463600-1880478000@thirdwheelbrewing.com
SUMMARY:Happy Hour every Friday
DESCRIPTION:Enjoy $2 off all of our core beers from 3-7 every Friday
URL:https://thirdwheelbrewing.com/events/happy-hour-every-friday/2029-08-03/
LOCATION:Third Wheel Brewing\, 4008 N. Service Rd\, St. Peters\, MO\, 63376\, United States
ATTACH;FMTTYPE=image/jpeg:https://thirdwheelbrewing.com/wp-content/uploads/2023/12/Third-Wheel-Brewing-.jpg
END:VEVENT
BEGIN:VEVENT
DTSTART;TZID=America/Chicago:20290809T190000
DTEND;TZID=America/Chicago:20290809T210000
DTSTAMP:20260425T071559
CREATED:20251114T023443Z
LAST-MODIFIED:20251114T023444Z
UID:990001096-1880996400-1881003600@thirdwheelbrewing.com
SUMMARY:Beer Bingo Thursday
DESCRIPTION:Beer bingo is fun and free to play with a food or beverage purchase!  The game starts at 7pm every Thursday.
URL:https://thirdwheelbrewing.com/events/beer-bingo-tonight-2/2029-08-09/
LOCATION:Third Wheel Brewing\, 4008 N. Service Rd\, St. Peters\, MO\, 63376\, United States
CATEGORIES:Bingo
ATTACH;FMTTYPE=image/jpeg:https://thirdwheelbrewing.com/wp-content/uploads/2024/01/23-10-26-third-wheel-48073.jpg
END:VEVENT
BEGIN:VEVENT
DTSTART;TZID=America/Chicago:20290810T150000
DTEND;TZID=America/Chicago:20290810T190000
DTSTAMP:20260425T071559
CREATED:20250608T213953Z
LAST-MODIFIED:20250610T145059Z
UID:990001358-1881068400-1881082800@thirdwheelbrewing.com
SUMMARY:Happy Hour every Friday
DESCRIPTION:Enjoy $2 off all of our core beers from 3-7 every Friday
URL:https://thirdwheelbrewing.com/events/happy-hour-every-friday/2029-08-10/
LOCATION:Third Wheel Brewing\, 4008 N. Service Rd\, St. Peters\, MO\, 63376\, United States
ATTACH;FMTTYPE=image/jpeg:https://thirdwheelbrewing.com/wp-content/uploads/2023/12/Third-Wheel-Brewing-.jpg
END:VEVENT
BEGIN:VEVENT
DTSTART;TZID=America/Chicago:20290816T190000
DTEND;TZID=America/Chicago:20290816T210000
DTSTAMP:20260425T071559
CREATED:20251114T023443Z
LAST-MODIFIED:20251114T023444Z
UID:990001097-1881601200-1881608400@thirdwheelbrewing.com
SUMMARY:Beer Bingo Thursday
DESCRIPTION:Beer bingo is fun and free to play with a food or beverage purchase!  The game starts at 7pm every Thursday.
URL:https://thirdwheelbrewing.com/events/beer-bingo-tonight-2/2029-08-16/
LOCATION:Third Wheel Brewing\, 4008 N. Service Rd\, St. Peters\, MO\, 63376\, United States
CATEGORIES:Bingo
ATTACH;FMTTYPE=image/jpeg:https://thirdwheelbrewing.com/wp-content/uploads/2024/01/23-10-26-third-wheel-48073.jpg
END:VEVENT
BEGIN:VEVENT
DTSTART;TZID=America/Chicago:20290817T150000
DTEND;TZID=America/Chicago:20290817T190000
DTSTAMP:20260425T071559
CREATED:20250608T213953Z
LAST-MODIFIED:20250610T145059Z
UID:990001359-1881673200-1881687600@thirdwheelbrewing.com
SUMMARY:Happy Hour every Friday
DESCRIPTION:Enjoy $2 off all of our core beers from 3-7 every Friday
URL:https://thirdwheelbrewing.com/events/happy-hour-every-friday/2029-08-17/
LOCATION:Third Wheel Brewing\, 4008 N. Service Rd\, St. Peters\, MO\, 63376\, United States
ATTACH;FMTTYPE=image/jpeg:https://thirdwheelbrewing.com/wp-content/uploads/2023/12/Third-Wheel-Brewing-.jpg
END:VEVENT
BEGIN:VEVENT
DTSTART;TZID=America/Chicago:20290821T190000
DTEND;TZID=America/Chicago:20290821T210000
DTSTAMP:20260425T071600
CREATED:20240306T211847Z
LAST-MODIFIED:20260221T211351Z
UID:990000823-1882033200-1882040400@thirdwheelbrewing.com
SUMMARY:Garage Brewer’s Society
DESCRIPTION:🏠🍻 Calling all homebrew enthusiasts! 🌟 Join us for Garage Brewer’s Society from 7-9 pm and connect with fellow homebrewers! Don’t miss out on this opportunity to share your passion for brewing! #Homebrewing #GarageBrewersSociety
URL:https://thirdwheelbrewing.com/events/garage-brewers-society/2029-08-21/
LOCATION:Third Wheel Brewing\, 4008 N. Service Rd\, St. Peters\, MO\, 63376\, United States
CATEGORIES:Event
ATTACH;FMTTYPE=image/jpeg:https://thirdwheelbrewing.com/wp-content/uploads/2024/03/Garagebrewers.jpg
END:VEVENT
BEGIN:VEVENT
DTSTART;TZID=America/Chicago:20290823T190000
DTEND;TZID=America/Chicago:20290823T210000
DTSTAMP:20260425T071600
CREATED:20251114T023443Z
LAST-MODIFIED:20251114T023444Z
UID:990001098-1882206000-1882213200@thirdwheelbrewing.com
SUMMARY:Beer Bingo Thursday
DESCRIPTION:Beer bingo is fun and free to play with a food or beverage purchase!  The game starts at 7pm every Thursday.
URL:https://thirdwheelbrewing.com/events/beer-bingo-tonight-2/2029-08-23/
LOCATION:Third Wheel Brewing\, 4008 N. Service Rd\, St. Peters\, MO\, 63376\, United States
CATEGORIES:Bingo
ATTACH;FMTTYPE=image/jpeg:https://thirdwheelbrewing.com/wp-content/uploads/2024/01/23-10-26-third-wheel-48073.jpg
END:VEVENT
BEGIN:VEVENT
DTSTART;TZID=America/Chicago:20290824T150000
DTEND;TZID=America/Chicago:20290824T190000
DTSTAMP:20260425T071600
CREATED:20250608T213953Z
LAST-MODIFIED:20250610T145059Z
UID:990001360-1882278000-1882292400@thirdwheelbrewing.com
SUMMARY:Happy Hour every Friday
DESCRIPTION:Enjoy $2 off all of our core beers from 3-7 every Friday
URL:https://thirdwheelbrewing.com/events/happy-hour-every-friday/2029-08-24/
LOCATION:Third Wheel Brewing\, 4008 N. Service Rd\, St. Peters\, MO\, 63376\, United States
ATTACH;FMTTYPE=image/jpeg:https://thirdwheelbrewing.com/wp-content/uploads/2023/12/Third-Wheel-Brewing-.jpg
END:VEVENT
BEGIN:VEVENT
DTSTART;TZID=America/Chicago:20290830T190000
DTEND;TZID=America/Chicago:20290830T210000
DTSTAMP:20260425T071600
CREATED:20251114T023443Z
LAST-MODIFIED:20251114T023444Z
UID:990001099-1882810800-1882818000@thirdwheelbrewing.com
SUMMARY:Beer Bingo Thursday
DESCRIPTION:Beer bingo is fun and free to play with a food or beverage purchase!  The game starts at 7pm every Thursday.
URL:https://thirdwheelbrewing.com/events/beer-bingo-tonight-2/2029-08-30/
LOCATION:Third Wheel Brewing\, 4008 N. Service Rd\, St. Peters\, MO\, 63376\, United States
CATEGORIES:Bingo
ATTACH;FMTTYPE=image/jpeg:https://thirdwheelbrewing.com/wp-content/uploads/2024/01/23-10-26-third-wheel-48073.jpg
END:VEVENT
END:VCALENDAR