BEGIN:VCALENDAR
VERSION:2.0
PRODID:-//Third Wheel Brewing - ECPv6.15.20//NONSGML v1.0//EN
CALSCALE:GREGORIAN
METHOD:PUBLISH
X-WR-CALNAME:Third Wheel Brewing
X-ORIGINAL-URL:https://thirdwheelbrewing.com
X-WR-CALDESC:Events for Third Wheel Brewing
REFRESH-INTERVAL;VALUE=DURATION:PT1H
X-Robots-Tag:noindex
X-PUBLISHED-TTL:PT1H
BEGIN:VTIMEZONE
TZID:America/Chicago
BEGIN:DAYLIGHT
TZOFFSETFROM:-0600
TZOFFSETTO:-0500
TZNAME:CDT
DTSTART:20270314T080000
END:DAYLIGHT
BEGIN:STANDARD
TZOFFSETFROM:-0500
TZOFFSETTO:-0600
TZNAME:CST
DTSTART:20271107T070000
END:STANDARD
BEGIN:DAYLIGHT
TZOFFSETFROM:-0600
TZOFFSETTO:-0500
TZNAME:CDT
DTSTART:20280312T080000
END:DAYLIGHT
BEGIN:STANDARD
TZOFFSETFROM:-0500
TZOFFSETTO:-0600
TZNAME:CST
DTSTART:20281105T070000
END:STANDARD
BEGIN:DAYLIGHT
TZOFFSETFROM:-0600
TZOFFSETTO:-0500
TZNAME:CDT
DTSTART:20290311T080000
END:DAYLIGHT
BEGIN:STANDARD
TZOFFSETFROM:-0500
TZOFFSETTO:-0600
TZNAME:CST
DTSTART:20291104T070000
END:STANDARD
BEGIN:DAYLIGHT
TZOFFSETFROM:-0600
TZOFFSETTO:-0500
TZNAME:CDT
DTSTART:20300310T080000
END:DAYLIGHT
BEGIN:STANDARD
TZOFFSETFROM:-0500
TZOFFSETTO:-0600
TZNAME:CST
DTSTART:20301103T070000
END:STANDARD
END:VTIMEZONE
BEGIN:VEVENT
DTSTART;TZID=America/Chicago:20281020T150000
DTEND;TZID=America/Chicago:20281020T190000
DTSTAMP:20260424T100617
CREATED:20250608T213953Z
LAST-MODIFIED:20250610T145059Z
UID:990001316-1855666800-1855681200@thirdwheelbrewing.com
SUMMARY:Happy Hour every Friday
DESCRIPTION:Enjoy $2 off all of our core beers from 3-7 every Friday
URL:https://thirdwheelbrewing.com/events/happy-hour-every-friday/2028-10-20/
LOCATION:Third Wheel Brewing\, 4008 N. Service Rd\, St. Peters\, MO\, 63376\, United States
ATTACH;FMTTYPE=image/jpeg:https://thirdwheelbrewing.com/wp-content/uploads/2023/12/Third-Wheel-Brewing-.jpg
END:VEVENT
BEGIN:VEVENT
DTSTART;TZID=America/Chicago:20281026T190000
DTEND;TZID=America/Chicago:20281026T210000
DTSTAMP:20260424T100617
CREATED:20251114T023443Z
LAST-MODIFIED:20251114T023444Z
UID:990001055-1856199600-1856206800@thirdwheelbrewing.com
SUMMARY:Beer Bingo Thursday
DESCRIPTION:Beer bingo is fun and free to play with a food or beverage purchase!  The game starts at 7pm every Thursday.
URL:https://thirdwheelbrewing.com/events/beer-bingo-tonight-2/2028-10-26/
LOCATION:Third Wheel Brewing\, 4008 N. Service Rd\, St. Peters\, MO\, 63376\, United States
CATEGORIES:Bingo
ATTACH;FMTTYPE=image/jpeg:https://thirdwheelbrewing.com/wp-content/uploads/2024/01/23-10-26-third-wheel-48073.jpg
END:VEVENT
BEGIN:VEVENT
DTSTART;TZID=America/Chicago:20281027T150000
DTEND;TZID=America/Chicago:20281027T190000
DTSTAMP:20260424T100617
CREATED:20250608T213953Z
LAST-MODIFIED:20250610T145059Z
UID:990001317-1856271600-1856286000@thirdwheelbrewing.com
SUMMARY:Happy Hour every Friday
DESCRIPTION:Enjoy $2 off all of our core beers from 3-7 every Friday
URL:https://thirdwheelbrewing.com/events/happy-hour-every-friday/2028-10-27/
LOCATION:Third Wheel Brewing\, 4008 N. Service Rd\, St. Peters\, MO\, 63376\, United States
ATTACH;FMTTYPE=image/jpeg:https://thirdwheelbrewing.com/wp-content/uploads/2023/12/Third-Wheel-Brewing-.jpg
END:VEVENT
BEGIN:VEVENT
DTSTART;TZID=America/Chicago:20281102T190000
DTEND;TZID=America/Chicago:20281102T210000
DTSTAMP:20260424T100617
CREATED:20251114T023443Z
LAST-MODIFIED:20251114T023444Z
UID:990001056-1856804400-1856811600@thirdwheelbrewing.com
SUMMARY:Beer Bingo Thursday
DESCRIPTION:Beer bingo is fun and free to play with a food or beverage purchase!  The game starts at 7pm every Thursday.
URL:https://thirdwheelbrewing.com/events/beer-bingo-tonight-2/2028-11-02/
LOCATION:Third Wheel Brewing\, 4008 N. Service Rd\, St. Peters\, MO\, 63376\, United States
CATEGORIES:Bingo
ATTACH;FMTTYPE=image/jpeg:https://thirdwheelbrewing.com/wp-content/uploads/2024/01/23-10-26-third-wheel-48073.jpg
END:VEVENT
BEGIN:VEVENT
DTSTART;TZID=America/Chicago:20281103T150000
DTEND;TZID=America/Chicago:20281103T190000
DTSTAMP:20260424T100617
CREATED:20250608T213953Z
LAST-MODIFIED:20250610T145059Z
UID:990001318-1856876400-1856890800@thirdwheelbrewing.com
SUMMARY:Happy Hour every Friday
DESCRIPTION:Enjoy $2 off all of our core beers from 3-7 every Friday
URL:https://thirdwheelbrewing.com/events/happy-hour-every-friday/2028-11-03/
LOCATION:Third Wheel Brewing\, 4008 N. Service Rd\, St. Peters\, MO\, 63376\, United States
ATTACH;FMTTYPE=image/jpeg:https://thirdwheelbrewing.com/wp-content/uploads/2023/12/Third-Wheel-Brewing-.jpg
END:VEVENT
BEGIN:VEVENT
DTSTART;TZID=America/Chicago:20281109T190000
DTEND;TZID=America/Chicago:20281109T210000
DTSTAMP:20260424T100617
CREATED:20251114T023443Z
LAST-MODIFIED:20251114T023444Z
UID:990001057-1857409200-1857416400@thirdwheelbrewing.com
SUMMARY:Beer Bingo Thursday
DESCRIPTION:Beer bingo is fun and free to play with a food or beverage purchase!  The game starts at 7pm every Thursday.
URL:https://thirdwheelbrewing.com/events/beer-bingo-tonight-2/2028-11-09/
LOCATION:Third Wheel Brewing\, 4008 N. Service Rd\, St. Peters\, MO\, 63376\, United States
CATEGORIES:Bingo
ATTACH;FMTTYPE=image/jpeg:https://thirdwheelbrewing.com/wp-content/uploads/2024/01/23-10-26-third-wheel-48073.jpg
END:VEVENT
BEGIN:VEVENT
DTSTART;TZID=America/Chicago:20281110T150000
DTEND;TZID=America/Chicago:20281110T190000
DTSTAMP:20260424T100617
CREATED:20250608T213953Z
LAST-MODIFIED:20250610T145059Z
UID:990001319-1857481200-1857495600@thirdwheelbrewing.com
SUMMARY:Happy Hour every Friday
DESCRIPTION:Enjoy $2 off all of our core beers from 3-7 every Friday
URL:https://thirdwheelbrewing.com/events/happy-hour-every-friday/2028-11-10/
LOCATION:Third Wheel Brewing\, 4008 N. Service Rd\, St. Peters\, MO\, 63376\, United States
ATTACH;FMTTYPE=image/jpeg:https://thirdwheelbrewing.com/wp-content/uploads/2023/12/Third-Wheel-Brewing-.jpg
END:VEVENT
BEGIN:VEVENT
DTSTART;TZID=America/Chicago:20281116T190000
DTEND;TZID=America/Chicago:20281116T210000
DTSTAMP:20260424T100617
CREATED:20251114T023443Z
LAST-MODIFIED:20251114T023444Z
UID:990001058-1858014000-1858021200@thirdwheelbrewing.com
SUMMARY:Beer Bingo Thursday
DESCRIPTION:Beer bingo is fun and free to play with a food or beverage purchase!  The game starts at 7pm every Thursday.
URL:https://thirdwheelbrewing.com/events/beer-bingo-tonight-2/2028-11-16/
LOCATION:Third Wheel Brewing\, 4008 N. Service Rd\, St. Peters\, MO\, 63376\, United States
CATEGORIES:Bingo
ATTACH;FMTTYPE=image/jpeg:https://thirdwheelbrewing.com/wp-content/uploads/2024/01/23-10-26-third-wheel-48073.jpg
END:VEVENT
BEGIN:VEVENT
DTSTART;TZID=America/Chicago:20281117T150000
DTEND;TZID=America/Chicago:20281117T190000
DTSTAMP:20260424T100617
CREATED:20250608T213953Z
LAST-MODIFIED:20250610T145059Z
UID:990001320-1858086000-1858100400@thirdwheelbrewing.com
SUMMARY:Happy Hour every Friday
DESCRIPTION:Enjoy $2 off all of our core beers from 3-7 every Friday
URL:https://thirdwheelbrewing.com/events/happy-hour-every-friday/2028-11-17/
LOCATION:Third Wheel Brewing\, 4008 N. Service Rd\, St. Peters\, MO\, 63376\, United States
ATTACH;FMTTYPE=image/jpeg:https://thirdwheelbrewing.com/wp-content/uploads/2023/12/Third-Wheel-Brewing-.jpg
END:VEVENT
BEGIN:VEVENT
DTSTART;TZID=America/Chicago:20281121T190000
DTEND;TZID=America/Chicago:20281121T210000
DTSTAMP:20260424T100617
CREATED:20240306T211847Z
LAST-MODIFIED:20260221T211351Z
UID:990000644-1858446000-1858453200@thirdwheelbrewing.com
SUMMARY:Garage Brewer’s Society
DESCRIPTION:🏠🍻 Calling all homebrew enthusiasts! 🌟 Join us for Garage Brewer’s Society from 7-9 pm and connect with fellow homebrewers! Don’t miss out on this opportunity to share your passion for brewing! #Homebrewing #GarageBrewersSociety
URL:https://thirdwheelbrewing.com/events/garage-brewers-society/2028-11-21/
LOCATION:Third Wheel Brewing\, 4008 N. Service Rd\, St. Peters\, MO\, 63376\, United States
CATEGORIES:Event
ATTACH;FMTTYPE=image/jpeg:https://thirdwheelbrewing.com/wp-content/uploads/2024/03/Garagebrewers.jpg
END:VEVENT
BEGIN:VEVENT
DTSTART;TZID=America/Chicago:20281123T190000
DTEND;TZID=America/Chicago:20281123T210000
DTSTAMP:20260424T100617
CREATED:20251114T023443Z
LAST-MODIFIED:20251114T023444Z
UID:990001059-1858618800-1858626000@thirdwheelbrewing.com
SUMMARY:Beer Bingo Thursday
DESCRIPTION:Beer bingo is fun and free to play with a food or beverage purchase!  The game starts at 7pm every Thursday.
URL:https://thirdwheelbrewing.com/events/beer-bingo-tonight-2/2028-11-23/
LOCATION:Third Wheel Brewing\, 4008 N. Service Rd\, St. Peters\, MO\, 63376\, United States
CATEGORIES:Bingo
ATTACH;FMTTYPE=image/jpeg:https://thirdwheelbrewing.com/wp-content/uploads/2024/01/23-10-26-third-wheel-48073.jpg
END:VEVENT
BEGIN:VEVENT
DTSTART;TZID=America/Chicago:20281124T150000
DTEND;TZID=America/Chicago:20281124T190000
DTSTAMP:20260424T100617
CREATED:20250608T213953Z
LAST-MODIFIED:20250610T145059Z
UID:990001321-1858690800-1858705200@thirdwheelbrewing.com
SUMMARY:Happy Hour every Friday
DESCRIPTION:Enjoy $2 off all of our core beers from 3-7 every Friday
URL:https://thirdwheelbrewing.com/events/happy-hour-every-friday/2028-11-24/
LOCATION:Third Wheel Brewing\, 4008 N. Service Rd\, St. Peters\, MO\, 63376\, United States
ATTACH;FMTTYPE=image/jpeg:https://thirdwheelbrewing.com/wp-content/uploads/2023/12/Third-Wheel-Brewing-.jpg
END:VEVENT
BEGIN:VEVENT
DTSTART;TZID=America/Chicago:20281130T190000
DTEND;TZID=America/Chicago:20281130T210000
DTSTAMP:20260424T100617
CREATED:20251114T023443Z
LAST-MODIFIED:20251114T023444Z
UID:990001060-1859223600-1859230800@thirdwheelbrewing.com
SUMMARY:Beer Bingo Thursday
DESCRIPTION:Beer bingo is fun and free to play with a food or beverage purchase!  The game starts at 7pm every Thursday.
URL:https://thirdwheelbrewing.com/events/beer-bingo-tonight-2/2028-11-30/
LOCATION:Third Wheel Brewing\, 4008 N. Service Rd\, St. Peters\, MO\, 63376\, United States
CATEGORIES:Bingo
ATTACH;FMTTYPE=image/jpeg:https://thirdwheelbrewing.com/wp-content/uploads/2024/01/23-10-26-third-wheel-48073.jpg
END:VEVENT
BEGIN:VEVENT
DTSTART;TZID=America/Chicago:20281201T150000
DTEND;TZID=America/Chicago:20281201T190000
DTSTAMP:20260424T100617
CREATED:20250608T213953Z
LAST-MODIFIED:20250610T145059Z
UID:990001322-1859295600-1859310000@thirdwheelbrewing.com
SUMMARY:Happy Hour every Friday
DESCRIPTION:Enjoy $2 off all of our core beers from 3-7 every Friday
URL:https://thirdwheelbrewing.com/events/happy-hour-every-friday/2028-12-01/
LOCATION:Third Wheel Brewing\, 4008 N. Service Rd\, St. Peters\, MO\, 63376\, United States
ATTACH;FMTTYPE=image/jpeg:https://thirdwheelbrewing.com/wp-content/uploads/2023/12/Third-Wheel-Brewing-.jpg
END:VEVENT
BEGIN:VEVENT
DTSTART;TZID=America/Chicago:20281207T190000
DTEND;TZID=America/Chicago:20281207T210000
DTSTAMP:20260424T100617
CREATED:20251114T023443Z
LAST-MODIFIED:20251114T023444Z
UID:990001061-1859828400-1859835600@thirdwheelbrewing.com
SUMMARY:Beer Bingo Thursday
DESCRIPTION:Beer bingo is fun and free to play with a food or beverage purchase!  The game starts at 7pm every Thursday.
URL:https://thirdwheelbrewing.com/events/beer-bingo-tonight-2/2028-12-07/
LOCATION:Third Wheel Brewing\, 4008 N. Service Rd\, St. Peters\, MO\, 63376\, United States
CATEGORIES:Bingo
ATTACH;FMTTYPE=image/jpeg:https://thirdwheelbrewing.com/wp-content/uploads/2024/01/23-10-26-third-wheel-48073.jpg
END:VEVENT
BEGIN:VEVENT
DTSTART;TZID=America/Chicago:20281208T150000
DTEND;TZID=America/Chicago:20281208T190000
DTSTAMP:20260424T100617
CREATED:20250608T213953Z
LAST-MODIFIED:20250610T145059Z
UID:990001323-1859900400-1859914800@thirdwheelbrewing.com
SUMMARY:Happy Hour every Friday
DESCRIPTION:Enjoy $2 off all of our core beers from 3-7 every Friday
URL:https://thirdwheelbrewing.com/events/happy-hour-every-friday/2028-12-08/
LOCATION:Third Wheel Brewing\, 4008 N. Service Rd\, St. Peters\, MO\, 63376\, United States
ATTACH;FMTTYPE=image/jpeg:https://thirdwheelbrewing.com/wp-content/uploads/2023/12/Third-Wheel-Brewing-.jpg
END:VEVENT
BEGIN:VEVENT
DTSTART;TZID=America/Chicago:20281214T190000
DTEND;TZID=America/Chicago:20281214T210000
DTSTAMP:20260424T100617
CREATED:20251114T023443Z
LAST-MODIFIED:20251114T023444Z
UID:990001062-1860433200-1860440400@thirdwheelbrewing.com
SUMMARY:Beer Bingo Thursday
DESCRIPTION:Beer bingo is fun and free to play with a food or beverage purchase!  The game starts at 7pm every Thursday.
URL:https://thirdwheelbrewing.com/events/beer-bingo-tonight-2/2028-12-14/
LOCATION:Third Wheel Brewing\, 4008 N. Service Rd\, St. Peters\, MO\, 63376\, United States
CATEGORIES:Bingo
ATTACH;FMTTYPE=image/jpeg:https://thirdwheelbrewing.com/wp-content/uploads/2024/01/23-10-26-third-wheel-48073.jpg
END:VEVENT
BEGIN:VEVENT
DTSTART;TZID=America/Chicago:20281215T150000
DTEND;TZID=America/Chicago:20281215T190000
DTSTAMP:20260424T100617
CREATED:20250608T213953Z
LAST-MODIFIED:20250610T145059Z
UID:990001324-1860505200-1860519600@thirdwheelbrewing.com
SUMMARY:Happy Hour every Friday
DESCRIPTION:Enjoy $2 off all of our core beers from 3-7 every Friday
URL:https://thirdwheelbrewing.com/events/happy-hour-every-friday/2028-12-15/
LOCATION:Third Wheel Brewing\, 4008 N. Service Rd\, St. Peters\, MO\, 63376\, United States
ATTACH;FMTTYPE=image/jpeg:https://thirdwheelbrewing.com/wp-content/uploads/2023/12/Third-Wheel-Brewing-.jpg
END:VEVENT
BEGIN:VEVENT
DTSTART;TZID=America/Chicago:20281219T190000
DTEND;TZID=America/Chicago:20281219T210000
DTSTAMP:20260424T100617
CREATED:20240306T211847Z
LAST-MODIFIED:20260221T211351Z
UID:990000645-1860865200-1860872400@thirdwheelbrewing.com
SUMMARY:Garage Brewer’s Society
DESCRIPTION:🏠🍻 Calling all homebrew enthusiasts! 🌟 Join us for Garage Brewer’s Society from 7-9 pm and connect with fellow homebrewers! Don’t miss out on this opportunity to share your passion for brewing! #Homebrewing #GarageBrewersSociety
URL:https://thirdwheelbrewing.com/events/garage-brewers-society/2028-12-19/
LOCATION:Third Wheel Brewing\, 4008 N. Service Rd\, St. Peters\, MO\, 63376\, United States
CATEGORIES:Event
ATTACH;FMTTYPE=image/jpeg:https://thirdwheelbrewing.com/wp-content/uploads/2024/03/Garagebrewers.jpg
END:VEVENT
BEGIN:VEVENT
DTSTART;TZID=America/Chicago:20281221T190000
DTEND;TZID=America/Chicago:20281221T210000
DTSTAMP:20260424T100617
CREATED:20251114T023443Z
LAST-MODIFIED:20251114T023444Z
UID:990001063-1861038000-1861045200@thirdwheelbrewing.com
SUMMARY:Beer Bingo Thursday
DESCRIPTION:Beer bingo is fun and free to play with a food or beverage purchase!  The game starts at 7pm every Thursday.
URL:https://thirdwheelbrewing.com/events/beer-bingo-tonight-2/2028-12-21/
LOCATION:Third Wheel Brewing\, 4008 N. Service Rd\, St. Peters\, MO\, 63376\, United States
CATEGORIES:Bingo
ATTACH;FMTTYPE=image/jpeg:https://thirdwheelbrewing.com/wp-content/uploads/2024/01/23-10-26-third-wheel-48073.jpg
END:VEVENT
BEGIN:VEVENT
DTSTART;TZID=America/Chicago:20281222T150000
DTEND;TZID=America/Chicago:20281222T190000
DTSTAMP:20260424T100617
CREATED:20250608T213953Z
LAST-MODIFIED:20250610T145059Z
UID:990001325-1861110000-1861124400@thirdwheelbrewing.com
SUMMARY:Happy Hour every Friday
DESCRIPTION:Enjoy $2 off all of our core beers from 3-7 every Friday
URL:https://thirdwheelbrewing.com/events/happy-hour-every-friday/2028-12-22/
LOCATION:Third Wheel Brewing\, 4008 N. Service Rd\, St. Peters\, MO\, 63376\, United States
ATTACH;FMTTYPE=image/jpeg:https://thirdwheelbrewing.com/wp-content/uploads/2023/12/Third-Wheel-Brewing-.jpg
END:VEVENT
BEGIN:VEVENT
DTSTART;TZID=America/Chicago:20281228T190000
DTEND;TZID=America/Chicago:20281228T210000
DTSTAMP:20260424T100617
CREATED:20251114T023443Z
LAST-MODIFIED:20251114T023444Z
UID:990001064-1861642800-1861650000@thirdwheelbrewing.com
SUMMARY:Beer Bingo Thursday
DESCRIPTION:Beer bingo is fun and free to play with a food or beverage purchase!  The game starts at 7pm every Thursday.
URL:https://thirdwheelbrewing.com/events/beer-bingo-tonight-2/2028-12-28/
LOCATION:Third Wheel Brewing\, 4008 N. Service Rd\, St. Peters\, MO\, 63376\, United States
CATEGORIES:Bingo
ATTACH;FMTTYPE=image/jpeg:https://thirdwheelbrewing.com/wp-content/uploads/2024/01/23-10-26-third-wheel-48073.jpg
END:VEVENT
BEGIN:VEVENT
DTSTART;TZID=America/Chicago:20281229T150000
DTEND;TZID=America/Chicago:20281229T190000
DTSTAMP:20260424T100617
CREATED:20250608T213953Z
LAST-MODIFIED:20250610T145059Z
UID:990001326-1861714800-1861729200@thirdwheelbrewing.com
SUMMARY:Happy Hour every Friday
DESCRIPTION:Enjoy $2 off all of our core beers from 3-7 every Friday
URL:https://thirdwheelbrewing.com/events/happy-hour-every-friday/2028-12-29/
LOCATION:Third Wheel Brewing\, 4008 N. Service Rd\, St. Peters\, MO\, 63376\, United States
ATTACH;FMTTYPE=image/jpeg:https://thirdwheelbrewing.com/wp-content/uploads/2023/12/Third-Wheel-Brewing-.jpg
END:VEVENT
BEGIN:VEVENT
DTSTART;TZID=America/Chicago:20290104T190000
DTEND;TZID=America/Chicago:20290104T210000
DTSTAMP:20260424T100617
CREATED:20251114T023443Z
LAST-MODIFIED:20251114T023444Z
UID:990001065-1862247600-1862254800@thirdwheelbrewing.com
SUMMARY:Beer Bingo Thursday
DESCRIPTION:Beer bingo is fun and free to play with a food or beverage purchase!  The game starts at 7pm every Thursday.
URL:https://thirdwheelbrewing.com/events/beer-bingo-tonight-2/2029-01-04/
LOCATION:Third Wheel Brewing\, 4008 N. Service Rd\, St. Peters\, MO\, 63376\, United States
CATEGORIES:Bingo
ATTACH;FMTTYPE=image/jpeg:https://thirdwheelbrewing.com/wp-content/uploads/2024/01/23-10-26-third-wheel-48073.jpg
END:VEVENT
BEGIN:VEVENT
DTSTART;TZID=America/Chicago:20290105T150000
DTEND;TZID=America/Chicago:20290105T190000
DTSTAMP:20260424T100617
CREATED:20250608T213953Z
LAST-MODIFIED:20250610T145059Z
UID:990001327-1862319600-1862334000@thirdwheelbrewing.com
SUMMARY:Happy Hour every Friday
DESCRIPTION:Enjoy $2 off all of our core beers from 3-7 every Friday
URL:https://thirdwheelbrewing.com/events/happy-hour-every-friday/2029-01-05/
LOCATION:Third Wheel Brewing\, 4008 N. Service Rd\, St. Peters\, MO\, 63376\, United States
ATTACH;FMTTYPE=image/jpeg:https://thirdwheelbrewing.com/wp-content/uploads/2023/12/Third-Wheel-Brewing-.jpg
END:VEVENT
BEGIN:VEVENT
DTSTART;TZID=America/Chicago:20290111T190000
DTEND;TZID=America/Chicago:20290111T210000
DTSTAMP:20260424T100617
CREATED:20251114T023443Z
LAST-MODIFIED:20251114T023444Z
UID:990001066-1862852400-1862859600@thirdwheelbrewing.com
SUMMARY:Beer Bingo Thursday
DESCRIPTION:Beer bingo is fun and free to play with a food or beverage purchase!  The game starts at 7pm every Thursday.
URL:https://thirdwheelbrewing.com/events/beer-bingo-tonight-2/2029-01-11/
LOCATION:Third Wheel Brewing\, 4008 N. Service Rd\, St. Peters\, MO\, 63376\, United States
CATEGORIES:Bingo
ATTACH;FMTTYPE=image/jpeg:https://thirdwheelbrewing.com/wp-content/uploads/2024/01/23-10-26-third-wheel-48073.jpg
END:VEVENT
BEGIN:VEVENT
DTSTART;TZID=America/Chicago:20290112T150000
DTEND;TZID=America/Chicago:20290112T190000
DTSTAMP:20260424T100617
CREATED:20250608T213953Z
LAST-MODIFIED:20250610T145059Z
UID:990001328-1862924400-1862938800@thirdwheelbrewing.com
SUMMARY:Happy Hour every Friday
DESCRIPTION:Enjoy $2 off all of our core beers from 3-7 every Friday
URL:https://thirdwheelbrewing.com/events/happy-hour-every-friday/2029-01-12/
LOCATION:Third Wheel Brewing\, 4008 N. Service Rd\, St. Peters\, MO\, 63376\, United States
ATTACH;FMTTYPE=image/jpeg:https://thirdwheelbrewing.com/wp-content/uploads/2023/12/Third-Wheel-Brewing-.jpg
END:VEVENT
BEGIN:VEVENT
DTSTART;TZID=America/Chicago:20290116T190000
DTEND;TZID=America/Chicago:20290116T210000
DTSTAMP:20260424T100617
CREATED:20240306T211847Z
LAST-MODIFIED:20260221T211351Z
UID:990000646-1863284400-1863291600@thirdwheelbrewing.com
SUMMARY:Garage Brewer’s Society
DESCRIPTION:🏠🍻 Calling all homebrew enthusiasts! 🌟 Join us for Garage Brewer’s Society from 7-9 pm and connect with fellow homebrewers! Don’t miss out on this opportunity to share your passion for brewing! #Homebrewing #GarageBrewersSociety
URL:https://thirdwheelbrewing.com/events/garage-brewers-society/2029-01-16/
LOCATION:Third Wheel Brewing\, 4008 N. Service Rd\, St. Peters\, MO\, 63376\, United States
CATEGORIES:Event
ATTACH;FMTTYPE=image/jpeg:https://thirdwheelbrewing.com/wp-content/uploads/2024/03/Garagebrewers.jpg
END:VEVENT
BEGIN:VEVENT
DTSTART;TZID=America/Chicago:20290118T190000
DTEND;TZID=America/Chicago:20290118T210000
DTSTAMP:20260424T100617
CREATED:20251114T023443Z
LAST-MODIFIED:20251114T023444Z
UID:990001067-1863457200-1863464400@thirdwheelbrewing.com
SUMMARY:Beer Bingo Thursday
DESCRIPTION:Beer bingo is fun and free to play with a food or beverage purchase!  The game starts at 7pm every Thursday.
URL:https://thirdwheelbrewing.com/events/beer-bingo-tonight-2/2029-01-18/
LOCATION:Third Wheel Brewing\, 4008 N. Service Rd\, St. Peters\, MO\, 63376\, United States
CATEGORIES:Bingo
ATTACH;FMTTYPE=image/jpeg:https://thirdwheelbrewing.com/wp-content/uploads/2024/01/23-10-26-third-wheel-48073.jpg
END:VEVENT
BEGIN:VEVENT
DTSTART;TZID=America/Chicago:20290119T150000
DTEND;TZID=America/Chicago:20290119T190000
DTSTAMP:20260424T100617
CREATED:20250608T213953Z
LAST-MODIFIED:20250610T145059Z
UID:990001329-1863529200-1863543600@thirdwheelbrewing.com
SUMMARY:Happy Hour every Friday
DESCRIPTION:Enjoy $2 off all of our core beers from 3-7 every Friday
URL:https://thirdwheelbrewing.com/events/happy-hour-every-friday/2029-01-19/
LOCATION:Third Wheel Brewing\, 4008 N. Service Rd\, St. Peters\, MO\, 63376\, United States
ATTACH;FMTTYPE=image/jpeg:https://thirdwheelbrewing.com/wp-content/uploads/2023/12/Third-Wheel-Brewing-.jpg
END:VEVENT
END:VCALENDAR