BEGIN:VCALENDAR
VERSION:2.0
PRODID:-//Third Wheel Brewing - ECPv6.15.20//NONSGML v1.0//EN
CALSCALE:GREGORIAN
METHOD:PUBLISH
X-WR-CALNAME:Third Wheel Brewing
X-ORIGINAL-URL:https://thirdwheelbrewing.com
X-WR-CALDESC:Events for Third Wheel Brewing
REFRESH-INTERVAL;VALUE=DURATION:PT1H
X-Robots-Tag:noindex
X-PUBLISHED-TTL:PT1H
BEGIN:VTIMEZONE
TZID:America/Chicago
BEGIN:DAYLIGHT
TZOFFSETFROM:-0600
TZOFFSETTO:-0500
TZNAME:CDT
DTSTART:20250309T080000
END:DAYLIGHT
BEGIN:STANDARD
TZOFFSETFROM:-0500
TZOFFSETTO:-0600
TZNAME:CST
DTSTART:20251102T070000
END:STANDARD
BEGIN:DAYLIGHT
TZOFFSETFROM:-0600
TZOFFSETTO:-0500
TZNAME:CDT
DTSTART:20260308T080000
END:DAYLIGHT
BEGIN:STANDARD
TZOFFSETFROM:-0500
TZOFFSETTO:-0600
TZNAME:CST
DTSTART:20261101T070000
END:STANDARD
BEGIN:DAYLIGHT
TZOFFSETFROM:-0600
TZOFFSETTO:-0500
TZNAME:CDT
DTSTART:20270314T080000
END:DAYLIGHT
BEGIN:STANDARD
TZOFFSETFROM:-0500
TZOFFSETTO:-0600
TZNAME:CST
DTSTART:20271107T070000
END:STANDARD
END:VTIMEZONE
BEGIN:VEVENT
DTSTART;TZID=America/Chicago:20260130T150000
DTEND;TZID=America/Chicago:20260130T190000
DTSTAMP:20260425T221545
CREATED:20250608T213953Z
LAST-MODIFIED:20250610T145059Z
UID:990001174-1769785200-1769799600@thirdwheelbrewing.com
SUMMARY:Happy Hour every Friday
DESCRIPTION:Enjoy $2 off all of our core beers from 3-7 every Friday
URL:https://thirdwheelbrewing.com/events/happy-hour-every-friday/2026-01-30/
LOCATION:Third Wheel Brewing\, 4008 N. Service Rd\, St. Peters\, MO\, 63376\, United States
ATTACH;FMTTYPE=image/jpeg:https://thirdwheelbrewing.com/wp-content/uploads/2023/12/Third-Wheel-Brewing-.jpg
END:VEVENT
BEGIN:VEVENT
DTSTART;TZID=America/Chicago:20260129T190000
DTEND;TZID=America/Chicago:20260129T210000
DTSTAMP:20260425T221545
CREATED:20251114T023443Z
LAST-MODIFIED:20251114T023444Z
UID:990000912-1769713200-1769720400@thirdwheelbrewing.com
SUMMARY:Beer Bingo Thursday
DESCRIPTION:Beer bingo is fun and free to play with a food or beverage purchase!  The game starts at 7pm every Thursday.
URL:https://thirdwheelbrewing.com/events/beer-bingo-tonight-2/2026-01-29/
LOCATION:Third Wheel Brewing\, 4008 N. Service Rd\, St. Peters\, MO\, 63376\, United States
CATEGORIES:Bingo
ATTACH;FMTTYPE=image/jpeg:https://thirdwheelbrewing.com/wp-content/uploads/2024/01/23-10-26-third-wheel-48073.jpg
END:VEVENT
BEGIN:VEVENT
DTSTART;TZID=America/Chicago:20260128T183000
DTEND;TZID=America/Chicago:20260128T200000
DTSTAMP:20260425T221545
CREATED:20260106T001712Z
LAST-MODIFIED:20260108T000459Z
UID:990001685-1769625000-1769630400@thirdwheelbrewing.com
SUMMARY:Metal Yoga 1/28
DESCRIPTION:Strike a pose.  Feel the roar.  Join us for a headbanging flow led by Ami Amore.  Yoga for angsty souls who need to let go of some rage and muscle tension.  Whether you’re a seasoned yogi or a beginner who wants to how corpse pose feels with bangin’ music\, this is your moment!  Tattoos optional\, attitude required.  And of course we include a pour of Untethered Rage or the draft beer of your choice! Tickets $20 in advance\, $25 at the door or day of event.
URL:https://thirdwheelbrewing.com/events/metal-yoga-128/
LOCATION:Third Wheel Brewing\, 4008 N. Service Rd\, St. Peters\, MO\, 63376\, United States
CATEGORIES:Event,Music
ATTACH;FMTTYPE=image/jpeg:https://thirdwheelbrewing.com/wp-content/uploads/2025/09/Metal-Yoga.jpg
END:VEVENT
BEGIN:VEVENT
DTSTART;TZID=America/Chicago:20260125T130000
DTEND;TZID=America/Chicago:20260125T170000
DTSTAMP:20260425T221545
CREATED:20251229T001904Z
LAST-MODIFIED:20251229T001905Z
UID:990001636-1769346000-1769360400@thirdwheelbrewing.com
SUMMARY:Puzzles & Guzzles
DESCRIPTION:Puzzle Lovers and Beer Enthusiasts Unite! Looking for great fun\, friends\, and a challenge? Join us for Puzzles & Guzzles – where your brain gets a workout and your taste buds are in for a treat! What to expect: Gather your team of 2-6 people Register at the bar the day of the event.  $10 per person\, includes a flight of Third Wheel Beer for each adult.  Complete a 300-piece jigsaw puzzle and your beer flights in the fastest time! Tons of laughter\, great company\, and a little healthy competition! Start any time between 1pm – 5pm.
URL:https://thirdwheelbrewing.com/events/puzzles-guzzles-2-2/2026-01-25/
LOCATION:Third Wheel Brewing\, 4008 N. Service Rd\, St. Peters\, MO\, 63376\, United States
CATEGORIES:Event
ATTACH;FMTTYPE=image/webp:https://thirdwheelbrewing.com/wp-content/uploads/2025/11/Puzzles-no-dates.webp
END:VEVENT
END:VCALENDAR