BEGIN:VCALENDAR
VERSION:2.0
PRODID:-//Third Wheel Brewing - ECPv6.15.20//NONSGML v1.0//EN
CALSCALE:GREGORIAN
METHOD:PUBLISH
X-WR-CALNAME:Third Wheel Brewing
X-ORIGINAL-URL:https://thirdwheelbrewing.com
X-WR-CALDESC:Events for Third Wheel Brewing
REFRESH-INTERVAL;VALUE=DURATION:PT1H
X-Robots-Tag:noindex
X-PUBLISHED-TTL:PT1H
BEGIN:VTIMEZONE
TZID:America/Chicago
BEGIN:DAYLIGHT
TZOFFSETFROM:-0600
TZOFFSETTO:-0500
TZNAME:CDT
DTSTART:20250309T080000
END:DAYLIGHT
BEGIN:STANDARD
TZOFFSETFROM:-0500
TZOFFSETTO:-0600
TZNAME:CST
DTSTART:20251102T070000
END:STANDARD
BEGIN:DAYLIGHT
TZOFFSETFROM:-0600
TZOFFSETTO:-0500
TZNAME:CDT
DTSTART:20260308T080000
END:DAYLIGHT
BEGIN:STANDARD
TZOFFSETFROM:-0500
TZOFFSETTO:-0600
TZNAME:CST
DTSTART:20261101T070000
END:STANDARD
BEGIN:DAYLIGHT
TZOFFSETFROM:-0600
TZOFFSETTO:-0500
TZNAME:CDT
DTSTART:20270314T080000
END:DAYLIGHT
BEGIN:STANDARD
TZOFFSETFROM:-0500
TZOFFSETTO:-0600
TZNAME:CST
DTSTART:20271107T070000
END:STANDARD
END:VTIMEZONE
BEGIN:VEVENT
DTSTART;TZID=America/Chicago:20260402T190000
DTEND;TZID=America/Chicago:20260402T210000
DTSTAMP:20260422T173228
CREATED:20251114T023443Z
LAST-MODIFIED:20251114T023444Z
UID:990000921-1775156400-1775163600@thirdwheelbrewing.com
SUMMARY:Beer Bingo Thursday
DESCRIPTION:Beer bingo is fun and free to play with a food or beverage purchase!  The game starts at 7pm every Thursday.
URL:https://thirdwheelbrewing.com/events/beer-bingo-tonight-2/2026-04-02/
LOCATION:Third Wheel Brewing\, 4008 N. Service Rd\, St. Peters\, MO\, 63376\, United States
CATEGORIES:Bingo
ATTACH;FMTTYPE=image/jpeg:https://thirdwheelbrewing.com/wp-content/uploads/2024/01/23-10-26-third-wheel-48073.jpg
END:VEVENT
BEGIN:VEVENT
DTSTART;TZID=America/Chicago:20260403T150000
DTEND;TZID=America/Chicago:20260403T190000
DTSTAMP:20260422T173228
CREATED:20250608T213953Z
LAST-MODIFIED:20250610T145059Z
UID:990001183-1775228400-1775242800@thirdwheelbrewing.com
SUMMARY:Happy Hour every Friday
DESCRIPTION:Enjoy $2 off all of our core beers from 3-7 every Friday
URL:https://thirdwheelbrewing.com/events/happy-hour-every-friday/2026-04-03/
LOCATION:Third Wheel Brewing\, 4008 N. Service Rd\, St. Peters\, MO\, 63376\, United States
ATTACH;FMTTYPE=image/jpeg:https://thirdwheelbrewing.com/wp-content/uploads/2023/12/Third-Wheel-Brewing-.jpg
END:VEVENT
BEGIN:VEVENT
DTSTART;TZID=America/Chicago:20260405T120000
DTEND;TZID=America/Chicago:20260405T180000
DTSTAMP:20260422T173228
CREATED:20260329T000809Z
LAST-MODIFIED:20260329T002059Z
UID:990001757-1775390400-1775412000@thirdwheelbrewing.com
SUMMARY:Easter Sunday - We are closed!
DESCRIPTION:
URL:https://thirdwheelbrewing.com/events/easter-sunday-we-are-closed/
LOCATION:Third Wheel Brewing\, 4008 N. Service Rd\, St. Peters\, MO\, 63376\, United States
CATEGORIES:Event
ATTACH;FMTTYPE=image/jpeg:https://thirdwheelbrewing.com/wp-content/uploads/2026/03/Easter.jpg
END:VEVENT
BEGIN:VEVENT
DTSTART;TZID=America/Chicago:20260409T190000
DTEND;TZID=America/Chicago:20260409T210000
DTSTAMP:20260422T173228
CREATED:20251114T023443Z
LAST-MODIFIED:20251114T023444Z
UID:990000922-1775761200-1775768400@thirdwheelbrewing.com
SUMMARY:Beer Bingo Thursday
DESCRIPTION:Beer bingo is fun and free to play with a food or beverage purchase!  The game starts at 7pm every Thursday.
URL:https://thirdwheelbrewing.com/events/beer-bingo-tonight-2/2026-04-09/
LOCATION:Third Wheel Brewing\, 4008 N. Service Rd\, St. Peters\, MO\, 63376\, United States
CATEGORIES:Bingo
ATTACH;FMTTYPE=image/jpeg:https://thirdwheelbrewing.com/wp-content/uploads/2024/01/23-10-26-third-wheel-48073.jpg
END:VEVENT
BEGIN:VEVENT
DTSTART;TZID=America/Chicago:20260410T150000
DTEND;TZID=America/Chicago:20260410T190000
DTSTAMP:20260422T173228
CREATED:20250608T213953Z
LAST-MODIFIED:20250610T145059Z
UID:990001184-1775833200-1775847600@thirdwheelbrewing.com
SUMMARY:Happy Hour every Friday
DESCRIPTION:Enjoy $2 off all of our core beers from 3-7 every Friday
URL:https://thirdwheelbrewing.com/events/happy-hour-every-friday/2026-04-10/
LOCATION:Third Wheel Brewing\, 4008 N. Service Rd\, St. Peters\, MO\, 63376\, United States
ATTACH;FMTTYPE=image/jpeg:https://thirdwheelbrewing.com/wp-content/uploads/2023/12/Third-Wheel-Brewing-.jpg
END:VEVENT
BEGIN:VEVENT
DTSTART;TZID=America/Chicago:20260416T190000
DTEND;TZID=America/Chicago:20260416T210000
DTSTAMP:20260422T173228
CREATED:20251114T023443Z
LAST-MODIFIED:20251114T023444Z
UID:990000923-1776366000-1776373200@thirdwheelbrewing.com
SUMMARY:Beer Bingo Thursday
DESCRIPTION:Beer bingo is fun and free to play with a food or beverage purchase!  The game starts at 7pm every Thursday.
URL:https://thirdwheelbrewing.com/events/beer-bingo-tonight-2/2026-04-16/
LOCATION:Third Wheel Brewing\, 4008 N. Service Rd\, St. Peters\, MO\, 63376\, United States
CATEGORIES:Bingo
ATTACH;FMTTYPE=image/jpeg:https://thirdwheelbrewing.com/wp-content/uploads/2024/01/23-10-26-third-wheel-48073.jpg
END:VEVENT
BEGIN:VEVENT
DTSTART;TZID=America/Chicago:20260417T150000
DTEND;TZID=America/Chicago:20260417T190000
DTSTAMP:20260422T173228
CREATED:20250608T213953Z
LAST-MODIFIED:20250610T145059Z
UID:990001185-1776438000-1776452400@thirdwheelbrewing.com
SUMMARY:Happy Hour every Friday
DESCRIPTION:Enjoy $2 off all of our core beers from 3-7 every Friday
URL:https://thirdwheelbrewing.com/events/happy-hour-every-friday/2026-04-17/
LOCATION:Third Wheel Brewing\, 4008 N. Service Rd\, St. Peters\, MO\, 63376\, United States
ATTACH;FMTTYPE=image/jpeg:https://thirdwheelbrewing.com/wp-content/uploads/2023/12/Third-Wheel-Brewing-.jpg
END:VEVENT
BEGIN:VEVENT
DTSTART;TZID=America/Chicago:20260417T190000
DTEND;TZID=America/Chicago:20260417T210000
DTSTAMP:20260422T173228
CREATED:20260329T215858Z
LAST-MODIFIED:20260329T220110Z
UID:990001759-1776452400-1776459600@thirdwheelbrewing.com
SUMMARY:Trivia Night - General Knowledge
DESCRIPTION:Think you know a little about a lot? Join us Friday\, April 17th at 7 PM for a night of wide-ranging trivia—from pop culture to presidents\, science to sports. It’s free to play\, all ages are welcome\, and the beer is always flowing. Whether you’re a seasoned quizzer or just in it for the laughs\, grab your friends (or make some new ones) and settle in for a fun\, friendly evening at your favorite neighborhood brewery.
URL:https://thirdwheelbrewing.com/events/trivia-night-general-knowledge/
LOCATION:Third Wheel Brewing\, 4008 N. Service Rd\, St. Peters\, MO\, 63376\, United States
CATEGORIES:Event,Trivia
ATTACH;FMTTYPE=image/jpeg:https://thirdwheelbrewing.com/wp-content/uploads/2026/03/Trivia-General.jpg
END:VEVENT
BEGIN:VEVENT
DTSTART;TZID=America/Chicago:20260418T160000
DTEND;TZID=America/Chicago:20260418T190000
DTSTAMP:20260422T173228
CREATED:20260411T024347Z
LAST-MODIFIED:20260411T024349Z
UID:990001767-1776528000-1776538800@thirdwheelbrewing.com
SUMMARY:Paint Party
DESCRIPTION:Join us for a laid-back\, creativity filled event where you can paint your own growler ($25) or pint glass or your own glassware ($15) – each one comes with a full pour of TWB beer or $5 off any of our crafted cocktails or wine. Want to make it a family event? Kids can paint rocks for $5 and includes a soda with free refills.   Whether you’re crafting solo\, hanging with friends\, or bringing the entire family along\, it’s an easygoing way to unwind\, sip\, and make something uniquely yours!
URL:https://thirdwheelbrewing.com/events/paint-party/
LOCATION:Third Wheel Brewing\, 4008 N. Service Rd\, St. Peters\, MO\, 63376\, United States
CATEGORIES:Event,Just Because
ATTACH;FMTTYPE=image/jpeg:https://thirdwheelbrewing.com/wp-content/uploads/2026/04/Paint-Party.jpg
END:VEVENT
BEGIN:VEVENT
DTSTART;TZID=America/Chicago:20260419T130000
DTEND;TZID=America/Chicago:20260419T143000
DTSTAMP:20260422T173228
CREATED:20260408T041002Z
LAST-MODIFIED:20260408T181921Z
UID:990001762-1776603600-1776609000@thirdwheelbrewing.com
SUMMARY:Metal Yoga - 80's Hair Band Theme
DESCRIPTION:Tease up that hair and limber up those lats—it’s Metal Yoga time. Ami Amore leads a wild\, cathartic flow set to the thunder of 80’s hair‑band anthems. Perfect for anyone who needs to scream internally\, stretch dramatically\, and let the riffs do the emotional heavy lifting. From first‑timers to seasoned rock‑n‑roll yogis\, everyone’s welcome on this neon‑lit mat of destiny. Your ticket includes a pour of Untethered Rage or any draft beer. $20 advance • $25 day of
URL:https://thirdwheelbrewing.com/events/80s-hair-band-metal-yoga/
LOCATION:Third Wheel Brewing\, 4008 N. Service Rd\, St. Peters\, MO\, 63376\, United States
CATEGORIES:Event,Music
ATTACH;FMTTYPE=image/jpeg:https://thirdwheelbrewing.com/wp-content/uploads/2025/09/Metal-Yoga.jpg
END:VEVENT
BEGIN:VEVENT
DTSTART;TZID=America/Chicago:20260419T130000
DTEND;TZID=America/Chicago:20260419T170000
DTSTAMP:20260422T173228
CREATED:20260328T023318Z
LAST-MODIFIED:20260329T002254Z
UID:990001642-1776603600-1776618000@thirdwheelbrewing.com
SUMMARY:Puzzles & Guzzles
DESCRIPTION:Puzzle Lovers and Beer Enthusiasts Unite! Looking for great fun\, friends\, and a challenge? Join us for Puzzles & Guzzles – where your brain gets a workout and your taste buds are in for a treat! What to expect: Gather your team of 2-6 people Register at the bar the day of the event.  $10 per person\, includes a flight of Third Wheel Beer for each adult.  Complete a 300-piece jigsaw puzzle and your beer flights in the fastest time! Tons of laughter\, great company\, and a little healthy competition! Start any time between 1pm – 5pm.
URL:https://thirdwheelbrewing.com/events/puzzles-guzzles-2-2-2/2026-04-19/
LOCATION:Third Wheel Brewing\, 4008 N. Service Rd\, St. Peters\, MO\, 63376\, United States
CATEGORIES:Event
ATTACH;FMTTYPE=image/webp:https://thirdwheelbrewing.com/wp-content/uploads/2025/11/Puzzles-no-dates.webp
END:VEVENT
BEGIN:VEVENT
DTSTART;TZID=America/Chicago:20260421T190000
DTEND;TZID=America/Chicago:20260421T210000
DTSTAMP:20260422T173228
CREATED:20240306T211847Z
LAST-MODIFIED:20260221T211351Z
UID:990000613-1776798000-1776805200@thirdwheelbrewing.com
SUMMARY:Garage Brewer’s Society
DESCRIPTION:🏠🍻 Calling all homebrew enthusiasts! 🌟 Join us for Garage Brewer’s Society from 7-9 pm and connect with fellow homebrewers! Don’t miss out on this opportunity to share your passion for brewing! #Homebrewing #GarageBrewersSociety
URL:https://thirdwheelbrewing.com/events/garage-brewers-society/2026-04-21/
LOCATION:Third Wheel Brewing\, 4008 N. Service Rd\, St. Peters\, MO\, 63376\, United States
CATEGORIES:Event
ATTACH;FMTTYPE=image/jpeg:https://thirdwheelbrewing.com/wp-content/uploads/2024/03/Garagebrewers.jpg
END:VEVENT
BEGIN:VEVENT
DTSTART;TZID=America/Chicago:20260423T190000
DTEND;TZID=America/Chicago:20260423T210000
DTSTAMP:20260422T173228
CREATED:20251114T023443Z
LAST-MODIFIED:20251114T023444Z
UID:990000924-1776970800-1776978000@thirdwheelbrewing.com
SUMMARY:Beer Bingo Thursday
DESCRIPTION:Beer bingo is fun and free to play with a food or beverage purchase!  The game starts at 7pm every Thursday.
URL:https://thirdwheelbrewing.com/events/beer-bingo-tonight-2/2026-04-23/
LOCATION:Third Wheel Brewing\, 4008 N. Service Rd\, St. Peters\, MO\, 63376\, United States
CATEGORIES:Bingo
ATTACH;FMTTYPE=image/jpeg:https://thirdwheelbrewing.com/wp-content/uploads/2024/01/23-10-26-third-wheel-48073.jpg
END:VEVENT
BEGIN:VEVENT
DTSTART;TZID=America/Chicago:20260424T150000
DTEND;TZID=America/Chicago:20260424T190000
DTSTAMP:20260422T173228
CREATED:20250608T213953Z
LAST-MODIFIED:20250610T145059Z
UID:990001186-1777042800-1777057200@thirdwheelbrewing.com
SUMMARY:Happy Hour every Friday
DESCRIPTION:Enjoy $2 off all of our core beers from 3-7 every Friday
URL:https://thirdwheelbrewing.com/events/happy-hour-every-friday/2026-04-24/
LOCATION:Third Wheel Brewing\, 4008 N. Service Rd\, St. Peters\, MO\, 63376\, United States
ATTACH;FMTTYPE=image/jpeg:https://thirdwheelbrewing.com/wp-content/uploads/2023/12/Third-Wheel-Brewing-.jpg
END:VEVENT
BEGIN:VEVENT
DTSTART;TZID=America/Chicago:20260426T140000
DTEND;TZID=America/Chicago:20260426T153000
DTSTAMP:20260422T173228
CREATED:20260411T024917Z
LAST-MODIFIED:20260411T025010Z
UID:990001768-1777212000-1777217400@thirdwheelbrewing.com
SUMMARY:Puppy Yoga
DESCRIPTION:Get ready for a paw-some time at Third Wheel Brewing in St Peters! Join us for Puppy Yoga\, where you can stretch\, relax\, and cuddle with some adorable pups. It’s the perfect way to unwind and make new furry friends. All ages & levels of yoga experience are welcome! Don’t miss out on this fun and furry experience – see you there! Your ticket includes a puppy yoga session & craft beer/mocktail
URL:https://thirdwheelbrewing.com/events/puppy-yoga-2/
LOCATION:Third Wheel Brewing\, 4008 N. Service Rd\, St. Peters\, MO\, 63376\, United States
CATEGORIES:Event
ATTACH;FMTTYPE=image/jpeg:https://thirdwheelbrewing.com/wp-content/uploads/2024/11/Dog-Yoga.jpg
END:VEVENT
BEGIN:VEVENT
DTSTART;TZID=America/Chicago:20260430T190000
DTEND;TZID=America/Chicago:20260430T210000
DTSTAMP:20260422T173228
CREATED:20251114T023443Z
LAST-MODIFIED:20251114T023444Z
UID:990000925-1777575600-1777582800@thirdwheelbrewing.com
SUMMARY:Beer Bingo Thursday
DESCRIPTION:Beer bingo is fun and free to play with a food or beverage purchase!  The game starts at 7pm every Thursday.
URL:https://thirdwheelbrewing.com/events/beer-bingo-tonight-2/2026-04-30/
LOCATION:Third Wheel Brewing\, 4008 N. Service Rd\, St. Peters\, MO\, 63376\, United States
CATEGORIES:Bingo
ATTACH;FMTTYPE=image/jpeg:https://thirdwheelbrewing.com/wp-content/uploads/2024/01/23-10-26-third-wheel-48073.jpg
END:VEVENT
BEGIN:VEVENT
DTSTART;TZID=America/Chicago:20260501T150000
DTEND;TZID=America/Chicago:20260501T190000
DTSTAMP:20260422T173228
CREATED:20250608T213953Z
LAST-MODIFIED:20250610T145059Z
UID:990001187-1777647600-1777662000@thirdwheelbrewing.com
SUMMARY:Happy Hour every Friday
DESCRIPTION:Enjoy $2 off all of our core beers from 3-7 every Friday
URL:https://thirdwheelbrewing.com/events/happy-hour-every-friday/2026-05-01/
LOCATION:Third Wheel Brewing\, 4008 N. Service Rd\, St. Peters\, MO\, 63376\, United States
ATTACH;FMTTYPE=image/jpeg:https://thirdwheelbrewing.com/wp-content/uploads/2023/12/Third-Wheel-Brewing-.jpg
END:VEVENT
BEGIN:VEVENT
DTSTART;TZID=America/Chicago:20260503T130000
DTEND;TZID=America/Chicago:20260503T170000
DTSTAMP:20260422T173228
CREATED:20260328T023318Z
LAST-MODIFIED:20260329T002254Z
UID:990001643-1777813200-1777827600@thirdwheelbrewing.com
SUMMARY:Puzzles & Guzzles
DESCRIPTION:Puzzle Lovers and Beer Enthusiasts Unite! Looking for great fun\, friends\, and a challenge? Join us for Puzzles & Guzzles – where your brain gets a workout and your taste buds are in for a treat! What to expect: Gather your team of 2-6 people Register at the bar the day of the event.  $10 per person\, includes a flight of Third Wheel Beer for each adult.  Complete a 300-piece jigsaw puzzle and your beer flights in the fastest time! Tons of laughter\, great company\, and a little healthy competition! Start any time between 1pm – 5pm.
URL:https://thirdwheelbrewing.com/events/puzzles-guzzles-2-2-2/2026-05-03/
LOCATION:Third Wheel Brewing\, 4008 N. Service Rd\, St. Peters\, MO\, 63376\, United States
CATEGORIES:Event
ATTACH;FMTTYPE=image/webp:https://thirdwheelbrewing.com/wp-content/uploads/2025/11/Puzzles-no-dates.webp
END:VEVENT
BEGIN:VEVENT
DTSTART;TZID=America/Chicago:20260507T190000
DTEND;TZID=America/Chicago:20260507T210000
DTSTAMP:20260422T173228
CREATED:20251114T023443Z
LAST-MODIFIED:20251114T023444Z
UID:990000926-1778180400-1778187600@thirdwheelbrewing.com
SUMMARY:Beer Bingo Thursday
DESCRIPTION:Beer bingo is fun and free to play with a food or beverage purchase!  The game starts at 7pm every Thursday.
URL:https://thirdwheelbrewing.com/events/beer-bingo-tonight-2/2026-05-07/
LOCATION:Third Wheel Brewing\, 4008 N. Service Rd\, St. Peters\, MO\, 63376\, United States
CATEGORIES:Bingo
ATTACH;FMTTYPE=image/jpeg:https://thirdwheelbrewing.com/wp-content/uploads/2024/01/23-10-26-third-wheel-48073.jpg
END:VEVENT
BEGIN:VEVENT
DTSTART;TZID=America/Chicago:20260508T150000
DTEND;TZID=America/Chicago:20260508T190000
DTSTAMP:20260422T173228
CREATED:20250608T213953Z
LAST-MODIFIED:20250610T145059Z
UID:990001188-1778252400-1778266800@thirdwheelbrewing.com
SUMMARY:Happy Hour every Friday
DESCRIPTION:Enjoy $2 off all of our core beers from 3-7 every Friday
URL:https://thirdwheelbrewing.com/events/happy-hour-every-friday/2026-05-08/
LOCATION:Third Wheel Brewing\, 4008 N. Service Rd\, St. Peters\, MO\, 63376\, United States
ATTACH;FMTTYPE=image/jpeg:https://thirdwheelbrewing.com/wp-content/uploads/2023/12/Third-Wheel-Brewing-.jpg
END:VEVENT
BEGIN:VEVENT
DTSTART;TZID=America/Chicago:20260514T190000
DTEND;TZID=America/Chicago:20260514T210000
DTSTAMP:20260422T173228
CREATED:20251114T023443Z
LAST-MODIFIED:20251114T023444Z
UID:990000927-1778785200-1778792400@thirdwheelbrewing.com
SUMMARY:Beer Bingo Thursday
DESCRIPTION:Beer bingo is fun and free to play with a food or beverage purchase!  The game starts at 7pm every Thursday.
URL:https://thirdwheelbrewing.com/events/beer-bingo-tonight-2/2026-05-14/
LOCATION:Third Wheel Brewing\, 4008 N. Service Rd\, St. Peters\, MO\, 63376\, United States
CATEGORIES:Bingo
ATTACH;FMTTYPE=image/jpeg:https://thirdwheelbrewing.com/wp-content/uploads/2024/01/23-10-26-third-wheel-48073.jpg
END:VEVENT
BEGIN:VEVENT
DTSTART;TZID=America/Chicago:20260515T150000
DTEND;TZID=America/Chicago:20260515T190000
DTSTAMP:20260422T173228
CREATED:20250608T213953Z
LAST-MODIFIED:20250610T145059Z
UID:990001189-1778857200-1778871600@thirdwheelbrewing.com
SUMMARY:Happy Hour every Friday
DESCRIPTION:Enjoy $2 off all of our core beers from 3-7 every Friday
URL:https://thirdwheelbrewing.com/events/happy-hour-every-friday/2026-05-15/
LOCATION:Third Wheel Brewing\, 4008 N. Service Rd\, St. Peters\, MO\, 63376\, United States
ATTACH;FMTTYPE=image/jpeg:https://thirdwheelbrewing.com/wp-content/uploads/2023/12/Third-Wheel-Brewing-.jpg
END:VEVENT
BEGIN:VEVENT
DTSTART;TZID=America/Chicago:20260517T130000
DTEND;TZID=America/Chicago:20260517T170000
DTSTAMP:20260422T173228
CREATED:20260328T023318Z
LAST-MODIFIED:20260329T002254Z
UID:990001644-1779022800-1779037200@thirdwheelbrewing.com
SUMMARY:Puzzles & Guzzles
DESCRIPTION:Puzzle Lovers and Beer Enthusiasts Unite! Looking for great fun\, friends\, and a challenge? Join us for Puzzles & Guzzles – where your brain gets a workout and your taste buds are in for a treat! What to expect: Gather your team of 2-6 people Register at the bar the day of the event.  $10 per person\, includes a flight of Third Wheel Beer for each adult.  Complete a 300-piece jigsaw puzzle and your beer flights in the fastest time! Tons of laughter\, great company\, and a little healthy competition! Start any time between 1pm – 5pm.
URL:https://thirdwheelbrewing.com/events/puzzles-guzzles-2-2-2/2026-05-17/
LOCATION:Third Wheel Brewing\, 4008 N. Service Rd\, St. Peters\, MO\, 63376\, United States
CATEGORIES:Event
ATTACH;FMTTYPE=image/webp:https://thirdwheelbrewing.com/wp-content/uploads/2025/11/Puzzles-no-dates.webp
END:VEVENT
BEGIN:VEVENT
DTSTART;TZID=America/Chicago:20260519T190000
DTEND;TZID=America/Chicago:20260519T210000
DTSTAMP:20260422T173228
CREATED:20240306T211847Z
LAST-MODIFIED:20260221T211351Z
UID:990000614-1779217200-1779224400@thirdwheelbrewing.com
SUMMARY:Garage Brewer’s Society
DESCRIPTION:🏠🍻 Calling all homebrew enthusiasts! 🌟 Join us for Garage Brewer’s Society from 7-9 pm and connect with fellow homebrewers! Don’t miss out on this opportunity to share your passion for brewing! #Homebrewing #GarageBrewersSociety
URL:https://thirdwheelbrewing.com/events/garage-brewers-society/2026-05-19/
LOCATION:Third Wheel Brewing\, 4008 N. Service Rd\, St. Peters\, MO\, 63376\, United States
CATEGORIES:Event
ATTACH;FMTTYPE=image/jpeg:https://thirdwheelbrewing.com/wp-content/uploads/2024/03/Garagebrewers.jpg
END:VEVENT
BEGIN:VEVENT
DTSTART;TZID=America/Chicago:20260521T190000
DTEND;TZID=America/Chicago:20260521T210000
DTSTAMP:20260422T173228
CREATED:20251114T023443Z
LAST-MODIFIED:20251114T023444Z
UID:990000928-1779390000-1779397200@thirdwheelbrewing.com
SUMMARY:Beer Bingo Thursday
DESCRIPTION:Beer bingo is fun and free to play with a food or beverage purchase!  The game starts at 7pm every Thursday.
URL:https://thirdwheelbrewing.com/events/beer-bingo-tonight-2/2026-05-21/
LOCATION:Third Wheel Brewing\, 4008 N. Service Rd\, St. Peters\, MO\, 63376\, United States
CATEGORIES:Bingo
ATTACH;FMTTYPE=image/jpeg:https://thirdwheelbrewing.com/wp-content/uploads/2024/01/23-10-26-third-wheel-48073.jpg
END:VEVENT
BEGIN:VEVENT
DTSTART;TZID=America/Chicago:20260522T150000
DTEND;TZID=America/Chicago:20260522T190000
DTSTAMP:20260422T173228
CREATED:20250608T213953Z
LAST-MODIFIED:20250610T145059Z
UID:990001190-1779462000-1779476400@thirdwheelbrewing.com
SUMMARY:Happy Hour every Friday
DESCRIPTION:Enjoy $2 off all of our core beers from 3-7 every Friday
URL:https://thirdwheelbrewing.com/events/happy-hour-every-friday/2026-05-22/
LOCATION:Third Wheel Brewing\, 4008 N. Service Rd\, St. Peters\, MO\, 63376\, United States
ATTACH;FMTTYPE=image/jpeg:https://thirdwheelbrewing.com/wp-content/uploads/2023/12/Third-Wheel-Brewing-.jpg
END:VEVENT
BEGIN:VEVENT
DTSTART;TZID=America/Chicago:20260528T190000
DTEND;TZID=America/Chicago:20260528T210000
DTSTAMP:20260422T173228
CREATED:20251114T023443Z
LAST-MODIFIED:20251114T023444Z
UID:990000929-1779994800-1780002000@thirdwheelbrewing.com
SUMMARY:Beer Bingo Thursday
DESCRIPTION:Beer bingo is fun and free to play with a food or beverage purchase!  The game starts at 7pm every Thursday.
URL:https://thirdwheelbrewing.com/events/beer-bingo-tonight-2/2026-05-28/
LOCATION:Third Wheel Brewing\, 4008 N. Service Rd\, St. Peters\, MO\, 63376\, United States
CATEGORIES:Bingo
ATTACH;FMTTYPE=image/jpeg:https://thirdwheelbrewing.com/wp-content/uploads/2024/01/23-10-26-third-wheel-48073.jpg
END:VEVENT
BEGIN:VEVENT
DTSTART;TZID=America/Chicago:20260529T150000
DTEND;TZID=America/Chicago:20260529T190000
DTSTAMP:20260422T173228
CREATED:20250608T213953Z
LAST-MODIFIED:20250610T145059Z
UID:990001191-1780066800-1780081200@thirdwheelbrewing.com
SUMMARY:Happy Hour every Friday
DESCRIPTION:Enjoy $2 off all of our core beers from 3-7 every Friday
URL:https://thirdwheelbrewing.com/events/happy-hour-every-friday/2026-05-29/
LOCATION:Third Wheel Brewing\, 4008 N. Service Rd\, St. Peters\, MO\, 63376\, United States
ATTACH;FMTTYPE=image/jpeg:https://thirdwheelbrewing.com/wp-content/uploads/2023/12/Third-Wheel-Brewing-.jpg
END:VEVENT
BEGIN:VEVENT
DTSTART;TZID=America/Chicago:20260531T130000
DTEND;TZID=America/Chicago:20260531T170000
DTSTAMP:20260422T173228
CREATED:20260328T023318Z
LAST-MODIFIED:20260329T002254Z
UID:990001645-1780232400-1780246800@thirdwheelbrewing.com
SUMMARY:Puzzles & Guzzles
DESCRIPTION:Puzzle Lovers and Beer Enthusiasts Unite! Looking for great fun\, friends\, and a challenge? Join us for Puzzles & Guzzles – where your brain gets a workout and your taste buds are in for a treat! What to expect: Gather your team of 2-6 people Register at the bar the day of the event.  $10 per person\, includes a flight of Third Wheel Beer for each adult.  Complete a 300-piece jigsaw puzzle and your beer flights in the fastest time! Tons of laughter\, great company\, and a little healthy competition! Start any time between 1pm – 5pm.
URL:https://thirdwheelbrewing.com/events/puzzles-guzzles-2-2-2/2026-05-31/
LOCATION:Third Wheel Brewing\, 4008 N. Service Rd\, St. Peters\, MO\, 63376\, United States
CATEGORIES:Event
ATTACH;FMTTYPE=image/webp:https://thirdwheelbrewing.com/wp-content/uploads/2025/11/Puzzles-no-dates.webp
END:VEVENT
BEGIN:VEVENT
DTSTART;TZID=America/Chicago:20260604T190000
DTEND;TZID=America/Chicago:20260604T210000
DTSTAMP:20260422T173228
CREATED:20251114T023443Z
LAST-MODIFIED:20251114T023444Z
UID:990000930-1780599600-1780606800@thirdwheelbrewing.com
SUMMARY:Beer Bingo Thursday
DESCRIPTION:Beer bingo is fun and free to play with a food or beverage purchase!  The game starts at 7pm every Thursday.
URL:https://thirdwheelbrewing.com/events/beer-bingo-tonight-2/2026-06-04/
LOCATION:Third Wheel Brewing\, 4008 N. Service Rd\, St. Peters\, MO\, 63376\, United States
CATEGORIES:Bingo
ATTACH;FMTTYPE=image/jpeg:https://thirdwheelbrewing.com/wp-content/uploads/2024/01/23-10-26-third-wheel-48073.jpg
END:VEVENT
END:VCALENDAR