BEGIN:VCALENDAR
VERSION:2.0
PRODID:-//Third Wheel Brewing - ECPv6.15.20//NONSGML v1.0//EN
CALSCALE:GREGORIAN
METHOD:PUBLISH
X-ORIGINAL-URL:https://thirdwheelbrewing.com
X-WR-CALDESC:Events for Third Wheel Brewing
REFRESH-INTERVAL;VALUE=DURATION:PT1H
X-Robots-Tag:noindex
X-PUBLISHED-TTL:PT1H
BEGIN:VTIMEZONE
TZID:America/Chicago
BEGIN:DAYLIGHT
TZOFFSETFROM:-0600
TZOFFSETTO:-0500
TZNAME:CDT
DTSTART:20250309T080000
END:DAYLIGHT
BEGIN:STANDARD
TZOFFSETFROM:-0500
TZOFFSETTO:-0600
TZNAME:CST
DTSTART:20251102T070000
END:STANDARD
BEGIN:DAYLIGHT
TZOFFSETFROM:-0600
TZOFFSETTO:-0500
TZNAME:CDT
DTSTART:20260308T080000
END:DAYLIGHT
BEGIN:STANDARD
TZOFFSETFROM:-0500
TZOFFSETTO:-0600
TZNAME:CST
DTSTART:20261101T070000
END:STANDARD
BEGIN:DAYLIGHT
TZOFFSETFROM:-0600
TZOFFSETTO:-0500
TZNAME:CDT
DTSTART:20270314T080000
END:DAYLIGHT
BEGIN:STANDARD
TZOFFSETFROM:-0500
TZOFFSETTO:-0600
TZNAME:CST
DTSTART:20271107T070000
END:STANDARD
END:VTIMEZONE
BEGIN:VEVENT
DTSTART;TZID=America/Chicago:20260314T110000
DTEND;TZID=America/Chicago:20260314T230000
DTSTAMP:20260422T173327
CREATED:20260301T193326Z
LAST-MODIFIED:20260301T221223Z
UID:990001734-1773486000-1773529200@thirdwheelbrewing.com
SUMMARY:St. Patrick's
DESCRIPTION:Celebrate the luck of the Irish with a feast built for chilly March nights and good company. We’re serving up tender corned beef and cabbage\, a classic that hits all the comfort notes\, followed by a silky chocolate Irish cream pie that’s pure indulgence. To top it all off\, we’re tapping a special small‑batch Irish stout on nitro — smooth\, roasty\, festive\, and only available for the holiday. \nIt’s hearty\, it’s celebratory\, and it’s the perfect way to raise a glass to St. Paddy’s Day at your favorite neighborhood brewery.
URL:https://thirdwheelbrewing.com/events/st-patricks/
LOCATION:Third Wheel Brewing\, 4008 N. Service Rd\, St. Peters\, MO\, 63376\, United States
CATEGORIES:Beer Release,Event
ATTACH;FMTTYPE=image/webp:https://thirdwheelbrewing.com/wp-content/uploads/2026/03/St.-Pats-Trixie.webp
END:VEVENT
END:VCALENDAR